BEGIN:VCALENDAR
VERSION:2.0
PRODID:-//ChamberMaster//Event Calendar 2.0//EN
METHOD:PUBLISH
X-PUBLISHED-TTL:P3D
REFRESH-INTERVAL:P3D
CALSCALE:GREGORIAN
BEGIN:VEVENT
DTSTART:20130808T220000Z
DTEND:20130808T233000Z
X-MICROSOFT-CDO-ALLDAYEVENT:FALSE
SUMMARY:B.Y.O.C.
DESCRIPTION:B.Y.O.C.\n		\n			"Bring Your Own Cards" - Business After Five\n		\n			Second Thursday of Every Month\n		\n			 5:00pm. - 6:30 pm\n		\n			 \n		\n			B.Y.O.C. is a Business After Five\n		\n			 casual networking opportunity\n		\n			 held on the second Thursday of each month.\n		\n			 \n		\n			Socialize with colleagues\, forge valuable professional relationships and don't forget to\n		\n			B.Y.O.C. - bring your own business cards - lots of them! \n		\n			You just might meet your next client!\n		\n			Members and non-members are welcome to attend.\n		\n			FREE for Chamber Members !!\n\n			$5.00 for Non-Members\n		\n			As a courtesy to the host\, please help and pre-register for this event for refreshment needs!\n		\n			 \n		\n			 \n		\n			 \n		\n			2013 Schedule:\n		\n			Jan  -  Competitor Awards & Engraving\n		\n			Feb  -  Forward Chiropractic\n\n			Mar  -  Weissgerber's Seven Seas\n\n			Apr  -  Kaiser Holahan LLC\n\n			May -  Mid-City Sports & Fox Bros. Piggy Wiggly\n\n			Jun  -  The McHenry Group & Wisconsin Upside Down\n\n			Jul  -   To The Pointe\n\n			Aug  -  Lake Country Publications\n\n			Sept -  Hartland Chamber-location TBA\n\n			Oct  -   Lake Country Players\n\n			Nov  -  Lending Hands Healthcare\n\n			Dec  -  Edward Jones - Miles Aquino
X-ALT-DESC;FMTTYPE=text/html:<div>\n	<div>\n		<h4 style="text-align: center\;">\n			<span style="font-size: medium\;"><span style="color: rgb(153\, 51\, 102)\;"><span style="font-family: comic sans ms\;"><big>B.Y.O.C.</big></span></span></span></h4>\n		<h4 style="text-align: center\;">\n			<span style="color: rgb(153\, 51\, 102)\;"><span style="font-family: comic sans ms\;"><big>&quot\;Bring Your Own Cards&quot\; - Business After Five</big></span></span></h4>\n		<h4 style="text-align: center\;">\n			<span style="color: rgb(153\, 51\, 102)\;"><span style="font-family: comic sans ms\;"><big>Second Thursday of Every Month</big></span></span></h4>\n		<h4 style="text-align: center\;">\n			<span style="color: rgb(153\, 51\, 102)\;"><span style="font-family: comic sans ms\;"><big>&nbsp\;5:00pm. - 6:30 pm</big></span></span></h4>\n		<div>\n			&nbsp\;</div>\n		<div style="text-align: center\;">\n			<span style="font-size: larger\;"><font size="4">B.Y.O.C. is a Business After Five</font></span></div>\n		<div style="text-align: center\;">\n			<span style="font-size: larger\;"><font size="4">&nbsp\;casual networking opportunity</font></span></div>\n		<div style="text-align: center\;">\n			<span style="font-size: larger\;"><font size="4">&nbsp\;held on the second Thursday of each month.</font></span></div>\n		<div style="text-align: center\;">\n			&nbsp\;</div>\n		<div style="text-align: center\;">\n			<span style="font-size: larger\;"><font size="4">Socialize with colleagues\, forge valuable professional relationships and don&rsquo\;t forget to</font></span></div>\n		<div style="text-align: center\;">\n			<span style="font-size: larger\;"><font size="4">B.Y.O.C. - bring your own business cards - lots of them!&nbsp\;</font></span></div>\n		<div style="text-align: center\;">\n			<span style="font-size: larger\;"><font size="4">You just might meet your next client!</font></span></div>\n		<p style="text-align: center\;">\n			<span style="font-size: larger\;"><font size="4">Members and non-members are welcome to attend.</font></span></p>\n		<p style="text-align: center\;">\n			<strong><span style="background-color: rgb(255\, 255\, 0)\;"><span style="font-size: x-small\;">FREE for Chamber Members !!<br />\n			$5.00 for Non-Members</span></span></strong></p>\n		<p style="text-align: center\;">\n			<strong><span style="background-color: rgb(255\, 255\, 0)\;"><span style="font-size: x-small\;">As a courtesy to the host\, please help and pre-register for this event for refreshment needs!</span></span></strong></p>\n		<p style="text-align: center\;">\n			&nbsp\;</p>\n		<div style="text-align: center\;">\n			&nbsp\;</div>\n		<div>\n			&nbsp\;</div>\n		<div>\n			<strong><span style="background-color: rgb(0\, 255\, 0)\;">2013 Schedule</span></strong>:</div>\n		<div>\n			Jan&nbsp\; -&nbsp\; Competitor Awards &amp\; Engraving</div>\n		<div>\n			Feb&nbsp\; -&nbsp\; Forward Chiropractic<br />\n			Mar&nbsp\; -&nbsp\;&nbsp\;Weissgerber&#39\;s Seven Seas<br />\n			Apr&nbsp\; -&nbsp\; Kaiser Holahan LLC<br />\n			May -&nbsp\;&nbsp\;Mid-City Sports &amp\; Fox Bros. Piggy Wiggly<br />\n			Jun&nbsp\; -&nbsp\;&nbsp\;The McHenry Group &amp\; Wisconsin Upside Down<br />\n			Jul&nbsp\; -&nbsp\;&nbsp\;&nbsp\;To The Pointe<br />\n			Aug&nbsp\; -&nbsp\;&nbsp\;Lake Country Publications<br />\n			Sept&nbsp\;-&nbsp\;&nbsp\;Hartland Chamber-location TBA<br />\n			Oct&nbsp\; -&nbsp\;&nbsp\; Lake Country Players<br />\n			Nov&nbsp\; -&nbsp\; Lending Hands Healthcare<br />\n			Dec&nbsp\; -&nbsp\;&nbsp\;Edward Jones - Miles Aquino<br />\n			&nbsp\;</div>\n	</div>\n</div>\n
LOCATION:Changes monthly based on host. Always check Events Calendar for updated location information! THIS MONTH: Hosted by Lake Country Publications at JC Bogar's On the River
UID:e.522.132059
SEQUENCE:3
DTSTAMP:20260420T161311Z
URL:https://business.hartland-wi.org/events/details/b-y-o-c-08-08-2013-132059
END:VEVENT

END:VCALENDAR
