BEGIN:VCALENDAR
VERSION:2.0
PRODID:-//ChamberMaster//Event Calendar 2.0//EN
METHOD:PUBLISH
X-PUBLISHED-TTL:P3D
REFRESH-INTERVAL:P3D
CALSCALE:GREGORIAN
BEGIN:VEVENT
DTSTART:20150714T220000Z
DTEND:20150714T233000Z
X-MICROSOFT-CDO-ALLDAYEVENT:FALSE
SUMMARY:B.Y.O.C.
DESCRIPTION:B.Y.O.C.\n\n"Bring Your Own Cards" - Business After Five\n\nSecond Tuesday of Every Month\n\n5:00 pm. - 6:30 pm\n\nExciting for this month....guests will have a chance to enter a drawing to win\n\na $50 gift card good for an 18 hole round of golf and a cart!!!\n\n \n\nB.Y.O.C. is a Business After Five\n\ncasual networking opportunity\n\nheld on the second Tuesday of each month.\n\n \n\nSocialize with colleagues\, forge valuable professional relationships and don't forget to\n\nB.Y.O.C. - bring your own business cards - lots of them! \n\nYou just might meet your next client!\n\nMembers and non-members are welcome to attend.\n\nFREE for Chamber Members !!\n\n$5.00 for Non-Members\n\nAs a courtesy to the host\, please help and pre-register for this event for refreshment needs!
X-ALT-DESC;FMTTYPE=text/html:<h4 style="text-align: center\;"><span style="font-size: medium\;"><span style="color: rgb(153\, 51\, 102)\;"><span style="font-family: comic sans ms\;"><big>B.Y.O.C.</big></span></span></span></h4>\n\n<h4 style="text-align: center\;"><span style="color: rgb(153\, 51\, 102)\;"><span style="font-family: comic sans ms\;"><big>&quot\;Bring Your Own Cards&quot\; - Business After Five</big></span></span></h4>\n\n<h4 style="text-align: center\;"><span style="color: rgb(153\, 51\, 102)\;"><span style="font-family: comic sans ms\;"><big>Second Tuesday of Every Month</big></span></span></h4>\n\n<h4 style="text-align: center\;"><span style="color: rgb(153\, 51\, 102)\;"><span style="font-family: comic sans ms\;"><big>5:00 pm. - 6:30 pm</big></span></span></h4>\n\n<div style="text-align: center\;"><em><strong><font color="#0000cd">Exciting for this month....guests will have a&nbsp\;chance to enter&nbsp\;a drawing to win<br />\na $50 gift card good for an 18 hole round of golf&nbsp\;and a cart!!!</font></strong></em></div>\n\n<div>&nbsp\;</div>\n\n<div style="text-align: center\;"><span style="font-size: larger\;"><font size="4">B.Y.O.C. is a Business After Five</font></span></div>\n\n<div style="text-align: center\;"><span style="font-size: larger\;"><font size="4">casual networking opportunity</font></span></div>\n\n<div style="text-align: center\;"><span style="font-size: larger\;"><font size="4">held on the second Tuesday of each month.</font></span></div>\n\n<div style="text-align: center\;">&nbsp\;</div>\n\n<div style="text-align: center\;"><span style="font-size: larger\;"><font size="4">Socialize with colleagues\, forge valuable professional relationships and don&rsquo\;t forget to</font></span></div>\n\n<div style="text-align: center\;"><span style="font-size: larger\;"><font size="4">B.Y.O.C. - bring your own business cards - lots of them! </font></span></div>\n\n<div style="text-align: center\;"><span style="font-size: larger\;"><font size="4">You just might meet your next client!</font></span></div>\n\n<p style="text-align: center\;"><span style="font-size: larger\;"><font size="4">Members and non-members are welcome to attend.</font></span></p>\n\n<p style="text-align: center\;"><strong><span style="background-color: rgb(255\, 255\, 0)\;"><span style="font-size: x-small\;">FREE for Chamber Members !!<br />\n$5.00 for Non-Members</span></span></strong></p>\n\n<p style="text-align: center\;"><strong><span style="background-color: rgb(255\, 255\, 0)\;"><span style="font-size: x-small\;">As a courtesy to the host\, please help and pre-register for this event for refreshment needs!</span></span></strong></p>\n
LOCATION:Changes monthly based on host. Always check Events Calendar for updated location information! THIS MONTH: Waukesha County Parks at Naga-waukee War Memorial Golf Course W307 N1897 Maple Avenue Pewaukee\, WI 53072
UID:e.522.133095
SEQUENCE:3
DTSTAMP:20260421T143044Z
URL:https://business.hartland-wi.org/events/details/b-y-o-c-07-14-2015-133095
END:VEVENT

END:VCALENDAR
