BEGIN:VCALENDAR
VERSION:2.0
PRODID:-//ChamberMaster//Event Calendar 2.0//EN
METHOD:PUBLISH
X-PUBLISHED-TTL:P3D
REFRESH-INTERVAL:P3D
CALSCALE:GREGORIAN
BEGIN:VEVENT
DTSTART:20110414T220000Z
DTEND:20110414T233000Z
X-MICROSOFT-CDO-ALLDAYEVENT:FALSE
SUMMARY:B.Y.O.C.
DESCRIPTION:B.Y.O.C.\n		\n			"Bring Your Own Cards" - Business After Five\n		\n			Second Thursday of Every Month\n		\n			 5:00pm. - 6:30 pm\n		\n			 \n		\n			B.Y.O.C. is a Business After Five\n		\n			 casual networking opportunity\n		\n			 held on the second Thursday of each month.\n		\n			 \n		\n			Socialize with colleagues\, forge valuable professional relationships and don't forget to\n		\n			B.Y.O.C. - bring your own business cards - lots of them! \n		\n			You just might meet your next client!\n		\n			Members and non-members are welcome to attend.\n		\n			Only $3.00 for pre-registered Chamber Members !! No refunds issued for non-attendance\n\n			Member Price will be $5.00 at the door.\n		\n			As a courtesy to the host\, please help and pre-register for this event for refreshment needs!\n		\n			 \n		\n			2011 Schedule:\n		\n			Jan    -    J.C. Bogar's (352 Cottonwood Avenue-Hartland)\n		\n			Feb    -    Premier Properties\, Ltd. (134 Cottonwood Avenue-Hartland)\n\n			Mar    -    TBA\n\n			Apr    -    Alliance Counseling Center (300 Cottonwood Ave\, Suite #4-Hartland)\n\n			May   -    The Delafield Hotel (415 Genesee Street-Delafield)\n\n			Jun   -     Hartland Center of Alternative Medicine (114 W. Capitol Drive-Hartland)\n\n			Jul    -     TBA\n\n			Aug   -    TBA\n\n			Sep  -     First Bank Financial Centre (800 Cardinal Lane-Hartland)\n\n			Oct    -    One...Mind\, Body\, Spirit LLC (139 E. Capitol Drive Suite #7-Hartland)\n\n			Nov   -    Edward Jones - Emil Weatherbee (862 Rose Drive-Hartland)\n\n			Dec  -     TBA
X-ALT-DESC;FMTTYPE=text/html:<div>\n	<div>\n		<h4 style="text-align: center">\n			<span style="font-size: medium"><span style="color: #993366"><span style="font-family: comic sans ms"><big>B.Y.O.C.</big></span></span></span></h4>\n		<h4 style="text-align: center">\n			<span style="color: #993366"><span style="font-family: comic sans ms"><big>&quot\;Bring Your Own Cards&quot\; - Business After Five</big></span></span></h4>\n		<h4 style="text-align: center">\n			<span style="color: #993366"><span style="font-family: comic sans ms"><big>Second Thursday of Every Month</big></span></span></h4>\n		<h4 style="text-align: center">\n			<span style="color: #993366"><span style="font-family: comic sans ms"><big>&nbsp\;5:00pm. - 6:30 pm</big></span></span></h4>\n		<div>\n			&nbsp\;</div>\n		<div style="text-align: center">\n			<span style="font-size: larger"><font size="4">B.Y.O.C. is a Business After Five</font></span></div>\n		<div style="text-align: center">\n			<span style="font-size: larger"><font size="4">&nbsp\;casual networking opportunity</font></span></div>\n		<div style="text-align: center">\n			<span style="font-size: larger"><font size="4">&nbsp\;held on the second Thursday of each month.</font></span></div>\n		<div style="text-align: center">\n			&nbsp\;</div>\n		<div style="text-align: center">\n			<span style="font-size: larger"><font size="4">Socialize with colleagues\, forge valuable professional relationships and don&rsquo\;t forget to</font></span></div>\n		<div style="text-align: center">\n			<span style="font-size: larger"><font size="4">B.Y.O.C. - bring your own business cards - lots of them!&nbsp\;</font></span></div>\n		<div style="text-align: center">\n			<span style="font-size: larger"><font size="4">You just might meet your next client!</font></span></div>\n		<p style="text-align: center">\n			<span style="font-size: larger"><font size="4">Members and non-members are welcome to attend.</font></span></p>\n		<p style="text-align: center">\n			<strong><span style="background-color: #ffff00"><span style="font-size: x-small">Only $3.00 for pre-registered&nbsp\;Chamber Members !! No refunds&nbsp\;issued for non-attendance<br />\n			Member Price will be $5.00 at the door.</span></span></strong></p>\n		<p style="text-align: center">\n			<strong><span style="background-color: #ffff00"><span style="font-size: x-small">As a courtesy to the host\, please help and pre-register for this event for refreshment needs!</span></span></strong></p>\n		<div>\n			&nbsp\;</div>\n		<div>\n			<strong><span style="background-color: #00ff00">2011 Schedule</span></strong>:</div>\n		<div>\n			Jan&nbsp\;&nbsp\;&nbsp\;&nbsp\;-&nbsp\;&nbsp\;&nbsp\;&nbsp\;J.C. Bogar&#39\;s (352 Cottonwood Avenue-Hartland)</div>\n		<div>\n			Feb&nbsp\;&nbsp\;&nbsp\;&nbsp\;-&nbsp\;&nbsp\;&nbsp\;&nbsp\;Premier Properties\, Ltd. (134 Cottonwood Avenue-Hartland)<br />\n			Mar&nbsp\;&nbsp\;&nbsp\; -&nbsp\;&nbsp\;&nbsp\; TBA<br />\n			Apr&nbsp\;&nbsp\;&nbsp\; -&nbsp\;&nbsp\;&nbsp\;&nbsp\;Alliance Counseling Center (300 Cottonwood Ave\, Suite #4-Hartland)<br />\n			May&nbsp\;&nbsp\;&nbsp\;-&nbsp\;&nbsp\;&nbsp\;&nbsp\;The Delafield Hotel (415 Genesee Street-Delafield)<br />\n			Jun&nbsp\;&nbsp\;&nbsp\;-&nbsp\;&nbsp\;&nbsp\;&nbsp\; Hartland Center of Alternative Medicine (114 W. Capitol Drive-Hartland)<br />\n			Jul&nbsp\;&nbsp\;&nbsp\; -&nbsp\;&nbsp\;&nbsp\;&nbsp\; TBA<br />\n			Aug&nbsp\;&nbsp\; -&nbsp\;&nbsp\;&nbsp\;&nbsp\;TBA<br />\n			Sep&nbsp\; -&nbsp\;&nbsp\;&nbsp\;&nbsp\; First Bank Financial Centre (800 Cardinal Lane-Hartland)<br />\n			Oct&nbsp\;&nbsp\;&nbsp\; -&nbsp\;&nbsp\;&nbsp\;&nbsp\;One...Mind\, Body\, Spirit LLC (139 E. Capitol Drive Suite #7-Hartland)<br />\n			Nov&nbsp\;&nbsp\; -&nbsp\;&nbsp\;&nbsp\;&nbsp\;Edward Jones - Emil Weatherbee (862 Rose Drive-Hartland)<br />\n			Dec&nbsp\;&nbsp\;-&nbsp\;&nbsp\;&nbsp\;&nbsp\; TBA</div>\n	</div>\n</div>\n
LOCATION:Changes monthly based on host. Always check Events Calendar for updated location information! This Month: Alliance Counseling Center 300 Cottonwood Avenue\, Suite #4-Hartland
UID:e.522.131430
SEQUENCE:3
DTSTAMP:20260422T183403Z
URL:https://business.hartland-wi.org/events/details/b-y-o-c-04-14-2011-131430
END:VEVENT

END:VCALENDAR
