BEGIN:VCALENDAR
VERSION:2.0
PRODID:-//ChamberMaster//Event Calendar 2.0//EN
METHOD:PUBLISH
X-PUBLISHED-TTL:P3D
REFRESH-INTERVAL:P3D
CALSCALE:GREGORIAN
BEGIN:VEVENT
DTSTART:20140213T230000Z
DTEND:20140214T003000Z
X-MICROSOFT-CDO-ALLDAYEVENT:FALSE
SUMMARY:B.Y.O.C.
DESCRIPTION:B.Y.O.C.\n\n	"Bring Your Own Cards" - Business After Five\n\n	Second Thursday of Every Month\n\n	5:00pm. - 6:30 pm\n\n	 \n\n	B.Y.O.C. is a Business After Five\n\n	casual networking opportunity\n\n	held on the second Thursday of each month.\n\n	 \n\n	Socialize with colleagues\, forge valuable professional relationships and don't forget to\n\n	B.Y.O.C. - bring your own business cards - lots of them! \n\n	You just might meet your next client!\n\n	Members and non-members are welcome to attend.\n\n	FREE for Chamber Members !!\n\n	$5.00 for Non-Members\n\n	As a courtesy to the host\, please help and pre-register for this event for refreshment needs!\n\n	 \n\n	 \n\n	2014 Schedule:\n\n	Jan - Global View Capital Advisors\n\n	Feb - Forward Chiropractic\n\n	Mar - Hartland Food Pantry\n\n	Apr - Jim Muenzenberger\, D.D.S.\, S.C.\n\n	May - ProHealth Care\n\n	Jun - Lake Country Martial Arts\n\n	Jul - Ixonia Bank\n\n	Aug - Mike Gogin State Farm Insurance\n\n	Sept - Lake Country Chiropractic\n\n	Oct - St. Charles Parish\n\n	Nov - Alliance Counseling Center\n\n	Dec - OPEN
X-ALT-DESC;FMTTYPE=text/html:<h4 style="text-align: center\;">\n	<span style="font-size: medium\;"><span style="color: rgb(153\, 51\, 102)\;"><span style="font-family: comic sans ms\;"><big>B.Y.O.C.</big></span></span></span></h4>\n<h4 style="text-align: center\;">\n	<span style="color: rgb(153\, 51\, 102)\;"><span style="font-family: comic sans ms\;"><big>&quot\;Bring Your Own Cards&quot\; - Business After Five</big></span></span></h4>\n<h4 style="text-align: center\;">\n	<span style="color: rgb(153\, 51\, 102)\;"><span style="font-family: comic sans ms\;"><big>Second Thursday of Every Month</big></span></span></h4>\n<h4 style="text-align: center\;">\n	<span style="color: rgb(153\, 51\, 102)\;"><span style="font-family: comic sans ms\;"><big>5:00pm. - 6:30 pm</big></span></span></h4>\n<div>\n	&nbsp\;</div>\n<div style="text-align: center\;">\n	<span style="font-size: larger\;"><font size="4">B.Y.O.C. is a Business After Five</font></span></div>\n<div style="text-align: center\;">\n	<span style="font-size: larger\;"><font size="4">casual networking opportunity</font></span></div>\n<div style="text-align: center\;">\n	<span style="font-size: larger\;"><font size="4">held on the second Thursday of each month.</font></span></div>\n<div style="text-align: center\;">\n	&nbsp\;</div>\n<div style="text-align: center\;">\n	<span style="font-size: larger\;"><font size="4">Socialize with colleagues\, forge valuable professional relationships and don&rsquo\;t forget to</font></span></div>\n<div style="text-align: center\;">\n	<span style="font-size: larger\;"><font size="4">B.Y.O.C. - bring your own business cards - lots of them! </font></span></div>\n<div style="text-align: center\;">\n	<span style="font-size: larger\;"><font size="4">You just might meet your next client!</font></span></div>\n<p style="text-align: center\;">\n	<span style="font-size: larger\;"><font size="4">Members and non-members are welcome to attend.</font></span></p>\n<p style="text-align: center\;">\n	<strong><span style="background-color: rgb(255\, 255\, 0)\;"><span style="font-size: x-small\;">FREE for Chamber Members !!<br />\n	$5.00 for Non-Members</span></span></strong></p>\n<p style="text-align: center\;">\n	<strong><span style="background-color: rgb(255\, 255\, 0)\;"><span style="font-size: x-small\;">As a courtesy to the host\, please help and pre-register for this event for refreshment needs!</span></span></strong></p>\n<p style="text-align: center\;">\n	&nbsp\;</p>\n<div>\n	&nbsp\;</div>\n<div>\n	<strong><span style="background-color: rgb(0\, 255\, 0)\;">2014 Schedule</span></strong>:</div>\n<div>\n	Jan - Global View Capital Advisors</div>\n<div>\n	Feb - Forward Chiropractic<br />\n	Mar - Hartland Food Pantry<br />\n	Apr - Jim Muenzenberger\, D.D.S.\, S.C.<br />\n	May - ProHealth Care<br />\n	Jun - Lake Country Martial Arts<br />\n	Jul - Ixonia Bank<br />\n	Aug - Mike Gogin State Farm Insurance<br />\n	Sept - Lake Country Chiropractic<br />\n	Oct - St. Charles Parish<br />\n	Nov - Alliance Counseling Center<br />\n	Dec - OPEN</div>\n
LOCATION:Changes monthly based on host. Always check Events Calendar for updated location information! THIS MONTH: Forward Chiropractic 540 Hartbrook Drive Hartland\, WI 53029
UID:e.522.132793
SEQUENCE:3
DTSTAMP:20260420T193831Z
URL:https://business.hartland-wi.org/events/details/b-y-o-c-02-13-2014-132793
END:VEVENT

END:VCALENDAR
