BEGIN:VCALENDAR
VERSION:2.0
PRODID:-//ChamberMaster//Event Calendar 2.0//EN
METHOD:PUBLISH
X-PUBLISHED-TTL:P3D
REFRESH-INTERVAL:P3D
CALSCALE:GREGORIAN
BEGIN:VEVENT
DTSTART:20121024T230000Z
DTEND:20121025T000000Z
X-MICROSOFT-CDO-ALLDAYEVENT:FALSE
SUMMARY:Avalon River Cruise Night
DESCRIPTION:Join us for a fun night learning about Avalon River Cruise.\n\ncontact me for details\n\nrennie@mylakecountrytravel.com\n\n414-721-1883
X-ALT-DESC;FMTTYPE=text/html:Join us for a fun night learning about Avalon River Cruise.<br />\ncontact me for details<br />\nrennie@mylakecountrytravel.com<br />\n414-721-1883
LOCATION:
UID:e.522.132023
SEQUENCE:3
DTSTAMP:20260421T075059Z
URL:https://business.hartland-wi.org/events/details/avalon-river-cruise-night-10-24-2012-132023
END:VEVENT

END:VCALENDAR
