BEGIN:VCALENDAR
VERSION:2.0
PRODID:-//ChamberMaster//Event Calendar 2.0//EN
METHOD:PUBLISH
X-PUBLISHED-TTL:P3D
REFRESH-INTERVAL:P3D
CALSCALE:GREGORIAN
BEGIN:VEVENT
DTSTART;VALUE=DATE:20190808
DTEND;VALUE=DATE:20190809
TRANSP:TRANSPARENT
X-MICROSOFT-CDO-ALLDAYEVENT:TRUE
SUMMARY:ArtZ Camp
DESCRIPTION:Zion Lutheran will be hosting a fun-filled ArtZ camp August 5th-8th from 9:00am-12:00pm.  The children will have the opportunity to learn about Jesus\, music\, art\, drama\, and culinary arts during this week.  On Thursday evening\, we will have an "Evening of the ArtZ" and the families will be able to see what the children have learned during the week.
X-ALT-DESC;FMTTYPE=text/html:Zion Lutheran will be hosting a fun-filled ArtZ camp August 5th-8th from 9:00am-12:00pm.&nbsp\; The children will have the opportunity to learn about Jesus\, music\, art\, drama\, and culinary arts during this week.&nbsp\; On Thursday evening\, we will have an &quot\;Evening of the ArtZ&quot\; and the families will be able to see what the children have learned during the week.&nbsp\;&nbsp\;
LOCATION:Zion Lutheran School 1023 East Capitol Drive Hartland\, WI. 53029
UID:e.522.138034
SEQUENCE:3
DTSTAMP:20260425T023234Z
URL:https://business.hartland-wi.org/events/details/artz-camp-08-08-2019-138034
END:VEVENT

END:VCALENDAR
