BEGIN:VCALENDAR
VERSION:2.0
PRODID:-//ChamberMaster//Event Calendar 2.0//EN
METHOD:PUBLISH
X-PUBLISHED-TTL:P3D
REFRESH-INTERVAL:P3D
CALSCALE:GREGORIAN
BEGIN:VEVENT
DTSTART:20120630T003000Z
DTEND:20120701T023000Z
X-MICROSOFT-CDO-ALLDAYEVENT:FALSE
SUMMARY:"Arsenic & Old Lace? at SummerStage of Delafield
DESCRIPTION:This famous comedy produced a smash hit in New York and on the road.  The comic mayhem of Arsenic & Old Lace has made it a true classic.
X-ALT-DESC;FMTTYPE=text/html:This famous comedy produced a smash hit in New York and on the road.&nbsp\; The comic mayhem of Arsenic &amp\; Old Lace has made it a true classic.
LOCATION:SummerStage of Delafield at Lapham Peak State Park
UID:e.522.131947
SEQUENCE:3
DTSTAMP:20260421T161732Z
URL:https://business.hartland-wi.org/events/details/arsenic-old-lace-at-summerstage-of-delafield-06-29-2012-131947
END:VEVENT

END:VCALENDAR
