BEGIN:VCALENDAR
VERSION:2.0
PRODID:-//ChamberMaster//Event Calendar 2.0//EN
METHOD:PUBLISH
X-PUBLISHED-TTL:P3D
REFRESH-INTERVAL:P3D
CALSCALE:GREGORIAN
BEGIN:VEVENT
DTSTART:20170504T123000Z
DTEND:20170504T140000Z
X-MICROSOFT-CDO-ALLDAYEVENT:FALSE
SUMMARY:Arrowhead High School Business Partnership Breakfast
DESCRIPTION:You are cordially invited to attend:\n\nArrowhead High School Business Partnership Breakfast\n\nThursday May 4\, 2017\n\nArrowhead High School - South Campus District Office\n\n\n\n(Click on the link below for more information)\n\n\n\nBusiness Partner Breakfast Invite
X-ALT-DESC;FMTTYPE=text/html:<h2 style="font-style: italic\; text-align: center\;"><span style="color:#0000CD\;">You are cordially invited to attend:</span></h2>\n\n<h2 style="font-style: italic\; text-align: center\;"><span style="color:#FF0000\;">Arrowhead High School Business Partnership Breakfast</span></h2>\n\n<div style="text-align: center\;"><span style="color:#0000FF\;">Thursday May 4\, 2017<br />\nArrowhead High School - South Campus District Office<br />\n<br />\n(Click on the link below for more information)</span><br />\n<br />\n<span style="font-family:times new roman\,serif\;"><span style="font-size:12.0pt\;"><a href="https://docs.google.com/document/d/1NWVZmaApMNQ6Vgtwewaz0tSVCcJB-8ID9Vh3nC9FJ5E/edit">Business Partner Breakfast Invite</a></span></span></div>\n
LOCATION:Arrowhead High School - South Campus District Office
UID:e.522.136673
SEQUENCE:3
DTSTAMP:20260423T045305Z
URL:https://business.hartland-wi.org/events/details/arrowhead-high-school-business-partnership-breakfast-136673
END:VEVENT

END:VCALENDAR
