BEGIN:VCALENDAR
VERSION:2.0
PRODID:-//ChamberMaster//Event Calendar 2.0//EN
METHOD:PUBLISH
X-PUBLISHED-TTL:P3D
REFRESH-INTERVAL:P3D
CALSCALE:GREGORIAN
BEGIN:VEVENT
DTSTART:20130325T140000Z
DTEND:20130330T170000Z
X-MICROSOFT-CDO-ALLDAYEVENT:FALSE
SUMMARY:Anniversary Week at Chiropractic Care Centers - Hartland
DESCRIPTION:Chiropractic Care Center - Hartland is celebrating it's 9-year anniversary and we want everyone to help celebrate. Join us March 25-30. All new patients receive consultation\, exam and x-rays at NO CHARGE. ($258 Value) Also\, every time you are adjusted or refer someone to the clinic\, you will be entered into our Grand Prize Drawing of ONE YEAR OF FREE CHIROPRACTIC!! Other raffles and giveaways all week!
X-ALT-DESC;FMTTYPE=text/html:Chiropractic Care Center - Hartland is celebrating it&#39\;s 9-year anniversary and we want everyone to help celebrate. Join us March 25-30. All new patients receive consultation\, exam and x-rays at NO CHARGE. ($258 Value) Also\, every time you are adjusted or refer someone to the clinic\, you will be entered into our Grand Prize Drawing of ONE YEAR OF FREE CHIROPRACTIC!! Other raffles and giveaways all week!
LOCATION:Chiropractic Care Center-Hartland 864 Rose Dr. Hartland (262) 367-4523 www.cccwis.com
UID:e.522.132365
SEQUENCE:3
DTSTAMP:20260420T231754Z
URL:https://business.hartland-wi.org/events/details/anniversary-week-at-chiropractic-care-centers-hartland-03-25-2013-132365
END:VEVENT

END:VCALENDAR
