BEGIN:VCALENDAR
VERSION:2.0
PRODID:-//ChamberMaster//Event Calendar 2.0//EN
METHOD:PUBLISH
X-PUBLISHED-TTL:P3D
REFRESH-INTERVAL:P3D
CALSCALE:GREGORIAN
BEGIN:VEVENT
DTSTART:20160830T230000Z
DTEND:20160831T003000Z
X-MICROSOFT-CDO-ALLDAYEVENT:FALSE
SUMMARY:Anchored
DESCRIPTION:Anchored\n\n\n\nManaging the Drift of Life \n\n\n\nEvery month come and enjoy this event by being able to relax and hangout with other people just like you. Each month will feature something new and fun from businesses in the area! \n\n\n\nThis month Bin One Eleven of Hartland will join us and we will learn about wines as they will be sampling wines and cheeses for us.\n\n\n\nThis is a free event so be sure to RSVP to get a spot as space is limited! This event starts at 6pm. Be sure to come before 6:30 to get registered to win a bottle of wine.\n\n\n\nAnchored by The Specific\n\n\n\nRSVP at AnchoredByTheSpecific.eventbrite.com
X-ALT-DESC;FMTTYPE=text/html:Anchored<br />\n<br />\nManaging the Drift of Life&nbsp\;<br />\n<br />\nEvery month come and enjoy this event by being able to relax and hangout with other people just like you. Each month will feature something new and fun from businesses in the area!&nbsp\;<br />\n<br />\nThis month Bin One Eleven of Hartland will join us and we will learn about wines as they will be sampling wines and cheeses for us.<br />\n<br />\nThis is a free event so be sure to RSVP to get a spot as space is limited! This event starts at 6pm. Be sure to come before 6:30 to get registered to win a bottle of wine.<br />\n<br />\nAnchored by The Specific<br />\n<br />\nRSVP at AnchoredByTheSpecific.eventbrite.com
LOCATION:The Specific Chiropractic Center Lake Country 557 Cottonwood Ave Ste #101 Hartland\, WI 53029
UID:e.522.133817
SEQUENCE:3
DTSTAMP:20260422T130515Z
URL:https://business.hartland-wi.org/events/details/anchored-08-30-2016-133817
END:VEVENT

END:VCALENDAR
