BEGIN:VCALENDAR
VERSION:2.0
PRODID:-//ChamberMaster//Event Calendar 2.0//EN
METHOD:PUBLISH
X-PUBLISHED-TTL:P3D
REFRESH-INTERVAL:P3D
CALSCALE:GREGORIAN
BEGIN:VEVENT
DTSTART;VALUE=DATE:20170128
DTEND;VALUE=DATE:20170129
TRANSP:TRANSPARENT
X-MICROSOFT-CDO-ALLDAYEVENT:TRUE
SUMMARY:American Legion Post 294 Annual Fishoree
DESCRIPTION:The annual American Legion Post 294 Fishoree will be held Sat.\, January 28th\, at the Post.  Registration for fishing is now being taken at the post and the registration closes 11:00AM  day of event.  Many raffles\, games and music. $400.00 top prize raffle tickets on sale now along with major prizes of 2 TV's a 40" TV and a 50" TV with 200 max tickets being sold for 10.00 each.  All fishing registration monies returned as prizes.  Fish any lake in Waukesha County.\n\n\n\nPost is open Tuesdays through Fridays - 3:00PM until 9:00PM -  Post is located at 231 Goodwin Ave\, Hartland. Come on down to register for the fishing and grab a few raffle tickets!!!!!  Help the Legion support our local vets who need assistance.
X-ALT-DESC;FMTTYPE=text/html:<p><span style="font-size: 14px\;"><strong>The annual American Legion Post 294 Fishoree will be held Sat.\, January 28th\, at the Post.</strong>&nbsp\;</span> Registration for fishing is now being taken at the post and the registration closes 11:00AM&nbsp\; day of event.&nbsp\; Many raffles\, games and music. $400.00 top prize raffle tickets on sale now along with major prizes of 2 TV&#39\;s a 40&quot\; TV&nbsp\;and a 50&quot\; TV with 200 max tickets being sold for 10.00 each.&nbsp\; All fishing registration monies returned as prizes.&nbsp\; Fish any lake in Waukesha County.<br />\n<br />\nPost&nbsp\;is open Tuesdays through Fridays - 3:00PM until 9:00PM -&nbsp\; Post is located at 231 Goodwin Ave\, Hartland. Come on down to register for the fishing and grab a few raffle tickets!!!!!&nbsp\; Help the Legion support our local vets who need assistance.</p>\n
LOCATION:American Legion Post 294 231 Goodwin Avenue Hartland\, WI 53029
UID:e.522.133902
SEQUENCE:3
DTSTAMP:20260422T221216Z
URL:https://business.hartland-wi.org/events/details/american-legion-post-294-annual-fishoree-133902
END:VEVENT

END:VCALENDAR
