BEGIN:VCALENDAR
VERSION:2.0
PRODID:-//ChamberMaster//Event Calendar 2.0//EN
METHOD:PUBLISH
X-PUBLISHED-TTL:P3D
REFRESH-INTERVAL:P3D
CALSCALE:GREGORIAN
BEGIN:VEVENT
DTSTART:20150214T180000Z
DTEND:20150215T020000Z
X-MICROSOFT-CDO-ALLDAYEVENT:FALSE
SUMMARY:American Legion Post 294 Annual Fishoree
DESCRIPTION:The annual American Legion Post 294 Fishoree will be held Sat.\, Feb. 14th\, Valentine's Day at the Post.  Registration for fishing is now being taken at the post and the registration closes 11:00AM  day of event.  Many raffles\, games and music. 300.00 top prize raffle tickets on sale now along with major prize of Jiffy Propane Powered Ice Drill with 8" auger - 200 max tickets being sold for 10.00 each.  All fishing registration monies returned as prizes.  Fish any lake in Waukesha County.\n\n\n\nPost bar is open Tuesdays through Fridays - 12:00PM until 9:00PM -  Post is located at 231 Goodwin Ave\, Hartland. Come on down to register for the fishing and grab a few raffle tickets!!!!!  Help the Legion support our local vets who need assistance.
X-ALT-DESC;FMTTYPE=text/html:<p><span style="font-size: 14px\;"><strong>The annual American Legion Post 294 Fishoree will be held Sat.\, Feb. 14th\, Valentine&#39\;s Day at the Post.</strong>&nbsp\;</span> Registration for fishing is now being taken at the post and the registration closes 11:00AM&nbsp\; day of event.&nbsp\; Many raffles\, games and music. 300.00 top prize raffle tickets on sale now along with major prize of Jiffy Propane Powered Ice Drill with 8&quot\; auger - 200 max tickets being sold for 10.00 each.&nbsp\; All fishing registration monies returned as prizes.&nbsp\; Fish any lake in Waukesha County.<br />\n<br />\nPost bar is open Tuesdays through Fridays - 12:00PM until 9:00PM -&nbsp\; Post is located at 231 Goodwin Ave\, Hartland. Come on down to register for the fishing and grab a few raffle tickets!!!!!&nbsp\; Help the Legion support our local vets who need assistance.</p>\n
LOCATION:
UID:e.522.133130
SEQUENCE:3
DTSTAMP:20260421T060510Z
URL:https://business.hartland-wi.org/events/details/american-legion-post-294-annual-fishoree-02-14-2015-133130
END:VEVENT

END:VCALENDAR
