BEGIN:VCALENDAR
VERSION:2.0
PRODID:-//ChamberMaster//Event Calendar 2.0//EN
METHOD:PUBLISH
X-PUBLISHED-TTL:P3D
REFRESH-INTERVAL:P3D
CALSCALE:GREGORIAN
BEGIN:VEVENT
DTSTART:20131030T230000Z
DTEND:20131031T000000Z
X-MICROSOFT-CDO-ALLDAYEVENT:FALSE
SUMMARY:Aloha Night at Lake Country Travel
DESCRIPTION:ALOHA & MAHALO FOR ATTENDING\n\n	Grab a Mai Tai and share the experience of ALOHA with our annual Hawaiian Islands Information Session!\n\n	Learn about all the islands of Hawaii (KAUA'I\, OAHO\, BIG ISLAND & MAUI) in this very informative meeting...find out the best times to travel\, how to make it affordable\, and much much more!\n\n	\n\n	RSVP today
X-ALT-DESC;FMTTYPE=text/html:<p class="text1" style="margin: 0px 0px 18px\; padding: 0px\; outline: 0px\; border: 0px currentColor\; color: rgb(38\, 53\, 85)\; line-height: 19px\; font-family: Arial\, Helvetica\, sans-serif\; font-size: 16px\; vertical-align: top\;">\n	ALOHA &amp\; MAHALO FOR ATTENDING</p>\n<p style="margin: 0px 0px 19px\; padding: 0px\; outline: 0px\; border: 0px currentColor\; line-height: 19px\; font-family: Arial\, Helvetica\, sans-serif\; font-size: 13px\; vertical-align: top\;">\n	Grab a Mai Tai and share the experience of ALOHA with our annual Hawaiian Islands Information Session!</p>\n<p style="margin: 0px 0px 19px\; padding: 0px\; outline: 0px\; border: 0px currentColor\; line-height: 19px\; font-family: Arial\, Helvetica\, sans-serif\; font-size: 13px\; vertical-align: top\;">\n	Learn about all the islands of Hawaii (KAUA&rsquo\;I\, OAHO\, BIG ISLAND &amp\; MAUI) in this very informative meeting...find out the best times to travel\, how to make it affordable\, and much much more!<br />\n	<br />\n	RSVP today</p>\n
LOCATION:Lake Country Travel 101 W Wisconsin Ave Pewaukee\, WI 53072
UID:e.522.132767
SEQUENCE:3
DTSTAMP:20260420T124157Z
URL:https://business.hartland-wi.org/events/details/aloha-night-at-lake-country-travel-10-30-2013-132767
END:VEVENT

END:VCALENDAR
