BEGIN:VCALENDAR
VERSION:2.0
PRODID:-//ChamberMaster//Event Calendar 2.0//EN
METHOD:PUBLISH
X-PUBLISHED-TTL:P3D
REFRESH-INTERVAL:P3D
CALSCALE:GREGORIAN
BEGIN:VEVENT
DTSTART;VALUE=DATE:20110128
DTEND;VALUE=DATE:20110130
TRANSP:TRANSPARENT
X-MICROSOFT-CDO-ALLDAYEVENT:TRUE
SUMMARY:Almost World Famous 1 Day Meat Sale
DESCRIPTION:Fox Bros. Piggly Wiggly is having one of our "Almost World Famous" One Day Meat Sales. Friday\, January 28th from 10 a.m. to 6 p.m. in Hartland and Saturday\, January 29th from 8 a.m. to 4p.m. in Oconomowoc. These will be some of the best prices of the year. Please go to www.foxbrospigglywiggly.com to view our ad. We will be taking preorders for those of you who would like to beat the lines. Just email your order to 092mgr@shopthepig.com for Hartland or 093mgr@shopthepig.com for Oconomowoc. We will then confirm your email order and have it ready for you when you want to come pick it up. Make sure you have the best meat you can buy for your family\, Certified Angus Beef\, only available at Fox Bros. Piggly Wiggly.
X-ALT-DESC;FMTTYPE=text/html:Fox Bros. Piggly Wiggly is having one of our &quot\;Almost World Famous&quot\; One Day Meat Sales. Friday\, January 28th from 10 a.m. to 6 p.m. in Hartland and Saturday\, January 29th from 8 a.m. to 4p.m. in Oconomowoc. These will be some of the best prices of the year. Please go to <a href="http://www.foxbrospigglywiggly.com">www.foxbrospigglywiggly.com</a>&nbsp\;to view our ad. We will be taking preorders for those of you who would like to beat the lines. Just email your order to <a href="mailto:092mgr@shopthepig.com">092mgr@shopthepig.com</a>&nbsp\;for Hartland or <a href="mailto:093mgr@shopthepig.com">093mgr@shopthepig.com</a>&nbsp\;for Oconomowoc. We will then confirm your email order and have it ready for you when you want to come pick it up. Make sure you have the best meat you can buy for your family\, Certified Angus Beef\, only available at Fox Bros. Piggly Wiggly.
LOCATION:Fox Bros. Piggly Wiggly
UID:e.522.131276
SEQUENCE:3
DTSTAMP:20260423T002152Z
URL:https://business.hartland-wi.org/events/details/almost-world-famous-1-day-meat-sale-01-28-2011-131276
END:VEVENT

END:VCALENDAR
