BEGIN:VCALENDAR
VERSION:2.0
PRODID:-//ChamberMaster//Event Calendar 2.0//EN
METHOD:PUBLISH
X-PUBLISHED-TTL:P3D
REFRESH-INTERVAL:P3D
CALSCALE:GREGORIAN
BEGIN:VEVENT
DTSTART:20121018T230000Z
DTEND:20121019T000000Z
X-MICROSOFT-CDO-ALLDAYEVENT:FALSE
SUMMARY:Alaska Night
DESCRIPTION:Join us for a fun night learning about Alaska. Think beautiful scenery and bring your calendar!\n\ncontact me for details\n\nrennie@mylakecountrytravel.com\n\n414-721-1883
X-ALT-DESC;FMTTYPE=text/html:Join us for a fun night learning about Alaska. Think&nbsp\;beautiful&nbsp\;scenery&nbsp\;and bring your calendar!<br />\ncontact me for details<br />\nrennie@mylakecountrytravel.com<br />\n414-721-1883
LOCATION:
UID:e.522.132022
SEQUENCE:3
DTSTAMP:20260421T075038Z
URL:https://business.hartland-wi.org/events/details/alaska-night-10-18-2012-132022
END:VEVENT

END:VCALENDAR
