BEGIN:VCALENDAR
VERSION:2.0
PRODID:-//ChamberMaster//Event Calendar 2.0//EN
METHOD:PUBLISH
X-PUBLISHED-TTL:P3D
REFRESH-INTERVAL:P3D
CALSCALE:GREGORIAN
BEGIN:VEVENT
DTSTART:20131010T230000Z
DTEND:20131011T000000Z
X-MICROSOFT-CDO-ALLDAYEVENT:FALSE
SUMMARY:Alaska Cruise and Tour Show at Lake Country Travel
DESCRIPTION:ALASKA CRUISE & TOUR\n\n\n\nPresented by Royal Caribbean & Lake Country Travel\n\n\n\n\n\n\n\nEVERYTHING ALASKA!\n\n\n\n\n\nNo journey stays with you\, mind and soul\, like an expedition through Alaska. From the blue ice of massive glacial fields to the stunning grandeur of the scenery and wildlife\, everything in Alaska is big\, bold & absolutely breathtaking.\n\n\n\nCome join us and learn all about Alaska Cruise & Tour options!\n\nSeats are limited - reserve your spot today!
X-ALT-DESC;FMTTYPE=text/html:<br />\nALASKA CRUISE &amp\; TOUR<br />\n<br />\nPresented by Royal Caribbean &amp\; Lake Country Travel<br />\n<br />\n<br />\n<br />\nEVERYTHING ALASKA!<br />\n<br />\n<br />\nNo journey stays with you\, mind and soul\, like an expedition through Alaska. From the blue ice of massive glacial fields to the stunning grandeur of the scenery and wildlife\, everything in Alaska is big\, bold &amp\; absolutely breathtaking.<br />\n<br />\nCome join us and learn all about Alaska Cruise &amp\; Tour options!<br />\nSeats are limited - reserve your spot today!<br />\n
LOCATION:Lake Country Travel 101 W Wisconsin Ave Pewaukee\, WI 53072
UID:e.522.132764
SEQUENCE:3
DTSTAMP:20260420T124449Z
URL:https://business.hartland-wi.org/events/details/alaska-cruise-and-tour-show-at-lake-country-travel-10-10-2013-132764
END:VEVENT

END:VCALENDAR
