BEGIN:VCALENDAR
VERSION:2.0
PRODID:-//ChamberMaster//Event Calendar 2.0//EN
METHOD:PUBLISH
X-PUBLISHED-TTL:P3D
REFRESH-INTERVAL:P3D
CALSCALE:GREGORIAN
BEGIN:VEVENT
DTSTART:20141002T123000Z
DTEND:20141002T143000Z
X-MICROSOFT-CDO-ALLDAYEVENT:FALSE
SUMMARY:Affordable Care Act
DESCRIPTION:What Small Employers Need to Know about the Affordable Care Act\n\n\n\nThursday\, October 2\, 2014\n\nRegistration:    7:30 am\n\n         Program :        8:00 - 9:30 am\n\n \nAre you a small-business owner with 100 or fewer employees? Are you unsure how the Affordable Care Act will affect you and your team?  If so\, you will benefit from this informative\, non-political panel discussion on how to navigate the new health care environment.\n\n \nClick Here to Learn More
X-ALT-DESC;FMTTYPE=text/html:<div style="text-align: center\;"><strong><span style="font-size: 14px\;">What Small Employers Need to Know about the Affordable Care Act</span><br />\n<br />\nThursday\, October 2\, 2014<br />\nRegistration:&nbsp\;&nbsp\;&nbsp\;&nbsp\;7:30 am<br />\n&nbsp\;&nbsp\;&nbsp\;&nbsp\;&nbsp\;&nbsp\;&nbsp\;&nbsp\; Program :&nbsp\;&nbsp\;&nbsp\;&nbsp\;&nbsp\;&nbsp\;&nbsp\;&nbsp\;8:00 - 9:30 am</strong><br />\n&nbsp\;</div>\nAre you a small-business owner with 100 or fewer employees? Are you unsure how the Affordable Care Act will affect you and your team?&nbsp\; If so\, you will benefit from this informative\, non-political panel discussion on how to navigate the new health care environment.<br />\n&nbsp\;\n<div style="text-align: center\;"><a href="http://cloud.chambermaster.com/userfiles/UserFiles/chambers/522/File/ACASeminar-Final.pdf">Click Here to Learn More</a></div>\n
LOCATION:Delafield Hotel 415 Genesee Street\, Delafield
UID:e.522.133070
SEQUENCE:3
DTSTAMP:20260420T231344Z
URL:https://business.hartland-wi.org/events/details/affordable-care-act-10-02-2014-133070
END:VEVENT

END:VCALENDAR
