BEGIN:VCALENDAR
VERSION:2.0
PRODID:-//ChamberMaster//Event Calendar 2.0//EN
METHOD:PUBLISH
X-PUBLISHED-TTL:P3D
REFRESH-INTERVAL:P3D
CALSCALE:GREGORIAN
BEGIN:VEVENT
DTSTART;VALUE=DATE:20110920
DTEND;VALUE=DATE:20111109
TRANSP:TRANSPARENT
X-MICROSOFT-CDO-ALLDAYEVENT:TRUE
SUMMARY:Adult Piano Lunch Lessons
DESCRIPTION:Adult Piano Lunch Lessons\n\n\n\nA beginning piano class designed for the professional needing an artistic break during the work day. Corporate clients welcome for a team building experience.\n\n\n\nTuesday Sept. 20 - Nov. 8   12:00-1:00\n\nThursday Sept. 22 - Nov. 10 12:00-1:00\n\n\n\nInstructor: Sue McTaggart\n\n\n\nClass Fee: $150 including materials
X-ALT-DESC;FMTTYPE=text/html:Adult Piano Lunch Lessons<br />\n<br />\nA beginning piano class designed for the professional needing an artistic break during the work day. Corporate clients welcome for a team building experience.<br />\n<br />\nTuesday Sept. 20 - Nov. 8&nbsp\;&nbsp\; 12:00-1:00<br />\nThursday Sept. 22 - Nov. 10 12:00-1:00<br />\n<br />\nInstructor: Sue McTaggart<br />\n<br />\nClass Fee: $150 including materials
LOCATION:Hartland Music 1125 James Dr.\, Hartland\, WI 53029
UID:e.522.131769
SEQUENCE:3
DTSTAMP:20260422T023813Z
URL:https://business.hartland-wi.org/events/details/adult-piano-lunch-lessons-09-20-2011-131769
END:VEVENT

END:VCALENDAR
