BEGIN:VCALENDAR
VERSION:2.0
PRODID:-//ChamberMaster//Event Calendar 2.0//EN
METHOD:PUBLISH
X-PUBLISHED-TTL:P3D
REFRESH-INTERVAL:P3D
CALSCALE:GREGORIAN
BEGIN:VEVENT
DTSTART:20140716T160000Z
DTEND:20140716T170000Z
X-MICROSOFT-CDO-ALLDAYEVENT:FALSE
SUMMARY:Active Shooter Training
DESCRIPTION:ACTIVE SHOOTER TRAINING\n\n\n\nWhat would you do if you heard a gunshot while at work?\n\nWould your employees know what to do?\n\n\n\nMass shooting incidents called "Active Shooter" events have been on the increase.  Wirtz Beverage has created and trained all of it's employees on how to respond to this situation.  As a member of the Hartland Chamber of Commerce\, Wirtz Beverage will offer free Active Shooter Training.  This training session has been approved by Homeland Security and endorsed by law enforcement agencies\, including the Hartland Police Department.
X-ALT-DESC;FMTTYPE=text/html:<div style="text-align: center\;"><big><u><span style="font-size: 14px\;">ACTIVE SHOOTER TRAINING</span></u><br />\n<br />\n<em><span style="font-size: 14px\;">What would you do if you heard a gunshot while at work?<br />\nWould your employees know what to do?</span></em></big><br />\n<br />\n<font size="1">Mass shooting incidents called &quot\;Active Shooter&quot\; events have been on the increase.&nbsp\; Wirtz Beverage has created and trained all of it&#39\;s employees on how to respond to this situation.&nbsp\; As a member of the Hartland Chamber of Commerce\, Wirtz Beverage will offer free Active Shooter Training.&nbsp\; This training session has been approved by Homeland Security and endorsed by law enforcement agencies\, including the Hartland Police Department.</font></div>\n
LOCATION:Wirtz Beverage Wisconsin 500 W. North Shore Drive Hartland\, WI 53029
UID:e.522.133060
SEQUENCE:3
DTSTAMP:20260420T175045Z
URL:https://business.hartland-wi.org/events/details/active-shooter-training-07-16-2014-133060
END:VEVENT

END:VCALENDAR
