BEGIN:VCALENDAR
VERSION:2.0
PRODID:-//ChamberMaster//Event Calendar 2.0//EN
METHOD:PUBLISH
X-PUBLISHED-TTL:P3D
REFRESH-INTERVAL:P3D
CALSCALE:GREGORIAN
BEGIN:VEVENT
DTSTART:20180313T140000Z
DTEND:20180313T180000Z
X-MICROSOFT-CDO-ALLDAYEVENT:FALSE
SUMMARY:AARP Safe Drivers Course
DESCRIPTION:AARP Safe Drivers Course\n\nAARP Driver Safety teaches safe driving techniques that make a difference in your life and community.\n\n\n\nJoin the millions of safer drivers on the roads with the award winning AARP Smart Driver course the latest from AARP Driver Safety.\n\n\n\nYou will learn evidence based safe driving strategies\, and refresh your knowledge of the latest rules and hazards of the road.\n\n\n\nYou may even be eligible for a care insurance discount.  consult your agent for details.
X-ALT-DESC;FMTTYPE=text/html:<div style="text-align: center\;"><strong>AARP Safe Drivers Course<br />\nAARP Driver Safety teaches safe driving techniques that make a difference in your life and community.<br />\n<br />\nJoin the millions of safer drivers on the roads with the award winning AARP Smart Driver course the latest from AARP Driver Safety.<br />\n<br />\nYou will learn evidence based safe driving strategies\, and refresh your knowledge of the latest rules and hazards of the road.<br />\n<br />\nYou may even be eligible for a care insurance discount.&nbsp\; consult your agent for details.</strong><br />\n<br />\n&nbsp\;</div>\n
LOCATION:Aurora Medical Center Summit Gifford Room 35600 Aurora Drive Summit\, WI 53066
UID:e.522.137168
SEQUENCE:3
DTSTAMP:20260423T213824Z
URL:https://business.hartland-wi.org/events/details/aarp-safe-drivers-course-137168
END:VEVENT

END:VCALENDAR
