BEGIN:VCALENDAR
VERSION:2.0
PRODID:-//ChamberMaster//Event Calendar 2.0//EN
METHOD:PUBLISH
X-PUBLISHED-TTL:P3D
REFRESH-INTERVAL:P3D
CALSCALE:GREGORIAN
BEGIN:VEVENT
DTSTART:20181106T150000Z
DTEND:20181106T190000Z
X-MICROSOFT-CDO-ALLDAYEVENT:FALSE
SUMMARY:AARP Safe Drivers Course
DESCRIPTION:AARP Safe Drivers Course\n\nAARP Driver Safety teaches safe driving techniques that make a difference in your life and comunity.\n\nJoin the millions of safer drivers on the roads with the award winning AARP Smart Driver course and learn the latest from AARP Driver Safety.\n\nYou will learn evidence based safe driving strategies\, and refresh your knowledge of the road.\n\nYou may even be eligible for a care insurance disount.\n\nConsult your agent for details.\n\nRegistration is required by calling 888-863-5502 or contact Trish Golden at 262-434-1248
X-ALT-DESC;FMTTYPE=text/html:<strong>AARP Safe Drivers Course<br />\nAARP Driver Safety teaches safe driving techniques that make a difference in your life and comunity.<br />\nJoin the millions of safer drivers on the roads with the award winning AARP Smart Driver course and learn the latest from AARP Driver Safety.<br />\nYou will learn evidence based safe driving strategies\, and refresh your knowledge of the road.<br />\nYou may even be eligible for a care insurance disount.<br />\nConsult your agent for details.<br />\nRegistration is required by calling 888-863-5502 or contact Trish Golden at 262-434-1248</strong>
LOCATION:Aurora Medical Center Summit Gifford Hall 36500 Aurora Drive Summit\, WI
UID:e.522.137484
SEQUENCE:3
DTSTAMP:20260424T102522Z
URL:https://business.hartland-wi.org/events/details/aarp-safe-drivers-course-11-06-2018-137484
END:VEVENT

END:VCALENDAR
