BEGIN:VCALENDAR
VERSION:2.0
PRODID:-//ChamberMaster//Event Calendar 2.0//EN
METHOD:PUBLISH
X-PUBLISHED-TTL:P3D
REFRESH-INTERVAL:P3D
CALSCALE:GREGORIAN
BEGIN:VEVENT
DTSTART:20180612T140000Z
DTEND:20180612T170000Z
X-MICROSOFT-CDO-ALLDAYEVENT:FALSE
SUMMARY:AARP Safe Drivers Course
DESCRIPTION:AARP Safe Drivers Course\n\nAARP Driver Safety teaches safe driving techniques that make a difference in your life and community.\n\n\n\nJoin the millions of safer drivers on the roads with the award winning AARP Smart Driver course the latest from AARP Driver Safety.\n\n\n\nYou will learn evidence based safe driving strategies\, and refresh your knowledge of the latest rules and hazards of the road.\n\n\n\nYou may even be eligible for a car insurance discount.  Consult your agent for details.\n\n\n\nRegistration is required:  888-863-5502\n\nAARP Members:  $15\n\nNon Members:  $20
X-ALT-DESC;FMTTYPE=text/html:<div style="text-align:center"><strong>AARP Safe Drivers Course<br />\nAARP Driver Safety teaches safe driving techniques that make a difference in your life and community.<br />\n<br />\nJoin the millions of safer drivers on the roads with the award winning AARP Smart Driver course the latest from AARP Driver Safety.<br />\n<br />\nYou will learn evidence based safe driving strategies\, and refresh your knowledge of the latest rules and hazards of the road.<br />\n<br />\nYou may even be eligible for a car insurance discount.&nbsp\; Consult your agent for details.<br />\n<br />\nRegistration is required:&nbsp\; 888-863-5502<br />\nAARP Members:&nbsp\; $15<br />\nNon Members:&nbsp\; $20</strong></div>\n
LOCATION:Aurora Medical Center Summit - Gifford Hall 36500 Aurora Drive Summit\, WI
UID:e.522.137245
SEQUENCE:3
DTSTAMP:20260424T022604Z
URL:https://business.hartland-wi.org/events/details/aarp-safe-drivers-course-06-12-2018-137245
END:VEVENT

END:VCALENDAR
