BEGIN:VCALENDAR
VERSION:2.0
PRODID:-//ChamberMaster//Event Calendar 2.0//EN
METHOD:PUBLISH
X-PUBLISHED-TTL:P3D
REFRESH-INTERVAL:P3D
CALSCALE:GREGORIAN
BEGIN:VEVENT
DTSTART:20180821T220000Z
DTEND:20180822T000000Z
X-MICROSOFT-CDO-ALLDAYEVENT:FALSE
SUMMARY:A Woman's Path To Personal Wellness: Summit Community Health Beat
DESCRIPTION:A Woman's Path to Personal Wellness\n\nSorting through all the information and misinformation about health trends and screenings for women can be difficult.  Join Jacqueline M. Akert RNC MSN\, to help you navigate and set the record straight on many woman's health concerns.  Learn about important issues to women such as:  cardiovascular disease\, breast health\, incontience\, colorectal health\, gastrointestinal disease\, anxiety\, depression and domestic/sexual assault.  Arm yourself with knowledge about important facts\, risk factors\, signs and symptoms and what you can do to reduce your risk.  Free manual breast exams will be available after the presentation.\n\n\n\nRegistration is required:  888-863-5502 or contact Trish Golden at 262-434-1248\n\nRegistration/light sandwiches:  5 to 5:30\n\nPresentation:  5:30 to 7 p.m.\n\nexams to follow presentation
X-ALT-DESC;FMTTYPE=text/html:<div style="text-align: center\;"><strong>A Woman&#39\;s Path to Personal Wellness<br />\nSorting through all the information and misinformation about health trends and screenings for women can be difficult.&nbsp\; Join Jacqueline M. Akert RNC MSN\, to help you navigate and set the record straight on many woman&#39\;s health concerns.&nbsp\; Learn about important issues to women such as:&nbsp\; cardiovascular disease\, breast health\, incontience\, colorectal health\, gastrointestinal disease\, anxiety\, depression and domestic/sexual assault.&nbsp\; Arm yourself with knowledge about important facts\, risk factors\, signs and symptoms and what you can do to reduce your risk.&nbsp\; Free manual breast exams will be available after the presentation.<br />\n<br />\nRegistration is required:&nbsp\; 888-863-5502 or contact Trish Golden at 262-434-1248<br />\nRegistration/light sandwiches:&nbsp\; 5 to 5:30<br />\nPresentation:&nbsp\; 5:30 to 7 p.m.<br />\nexams to follow presentation</strong></div>\n
LOCATION:Aurora Medical Center Summit - Draper Hall 36500 Aurora Drive Summit Wi
UID:e.522.137249
SEQUENCE:3
DTSTAMP:20260424T055714Z
URL:https://business.hartland-wi.org/events/details/a-woman-s-path-to-personal-wellness-summit-community-health-beat-137249
END:VEVENT

END:VCALENDAR
