BEGIN:VCALENDAR
VERSION:2.0
PRODID:-//ChamberMaster//Event Calendar 2.0//EN
METHOD:PUBLISH
X-PUBLISHED-TTL:P3D
REFRESH-INTERVAL:P3D
CALSCALE:GREGORIAN
BEGIN:VEVENT
DTSTART:20171007T150000Z
DTEND:20171007T160000Z
X-MICROSOFT-CDO-ALLDAYEVENT:FALSE
SUMMARY:A Raptor Experience
DESCRIPTION:Join us for an educational presentation that will help you understand and appreciate the co-existence between wildlife and man\, and the importance in preserving the world in which we live. Presented by Dianne Moller from Hoo's Woods Raptor Center.
X-ALT-DESC;FMTTYPE=text/html:Join us for an educational presentation that will help you understand and appreciate the co-existence between wildlife and man\, and the importance in preserving the world in which we live. Presented by Dianne Moller from Hoo&#39\;s Woods Raptor Center.
LOCATION:Heritage Lake Country 2975 Village Square Drive\, Hartland\, WI 53029
UID:e.522.137008
SEQUENCE:3
DTSTAMP:20260423T131135Z
URL:https://business.hartland-wi.org/events/details/a-raptor-experience-137008
END:VEVENT

END:VCALENDAR
