BEGIN:VCALENDAR
VERSION:2.0
PRODID:-//ChamberMaster//Event Calendar 2.0//EN
METHOD:PUBLISH
X-PUBLISHED-TTL:P3D
REFRESH-INTERVAL:P3D
CALSCALE:GREGORIAN
BEGIN:VEVENT
DTSTART:20190824T150000Z
DTEND:20190824T200000Z
X-MICROSOFT-CDO-ALLDAYEVENT:FALSE
SUMMARY:6th Annual Sidewalk Sale- Downtown Hartland
DESCRIPTION:Join us on the streets of downtown Hartland\, where you can Dine\, Shop and Connect with local Downtown Hartland Businesses\, Vendors\, Crafters & a Farmer's Market for our 6th Annual Sidewalk Sale. We will be lining Pawling Ave with Vendors along with local retailers to offer you sizzling summer savings! \n\n\n\n*Band to follow event at Hoggers Pub starting at 4:00\n\n\n\nInterested in being a vendor or sponsor? Get more info here: https://www.bedbarnwi.com/single-post/2019/04/28/WANTED-Vendors-Crafters-Farmers-Market-6th-Annual-Sidewalk-Sale
X-ALT-DESC;FMTTYPE=text/html:<span style="color:rgb(29\, 33\, 41)\; font-family:helvetica\,arial\,sans-serif\; font-size:14px">Join us on the streets of downtown Hartland\, where you can Dine\, Shop and Connect with local Downtown Hartland Businesses\, Vendors\, Crafters &amp\; a Farmer&#39\;s Market for our 6th Annual Sidewalk Sale. We will be lining Pawling Ave with Vendors along with local retailers to offer you sizzling summer savings! </span><br />\n<br />\n<span style="color:rgb(29\, 33\, 41)\; font-family:helvetica\,arial\,sans-serif\; font-size:14px">*Band to follow event at </span><a href="https://www.facebook.com/HoggersPub/" style="color: rgb(56\, 88\, 152)\; cursor: pointer\; text-decoration-line: none\; font-family: Helvetica\, Arial\, sans-serif\; font-size: 14px\; white-space: pre-wrap\;" target="_blank">Hoggers Pub</a><span style="color:rgb(29\, 33\, 41)\; font-family:helvetica\,arial\,sans-serif\; font-size:14px"> starting at 4:00</span><br />\n<br />\n<span style="color:rgb(29\, 33\, 41)\; font-family:helvetica\,arial\,sans-serif\; font-size:14px">Interested in being a vendor or sponsor? Get more info here: </span><a href="https://www.bedbarnwi.com/single-post/2019/04/28/WANTED-Vendors-Crafters-Farmers-Market-6th-Annual-Sidewalk-Sale?fbclid=IwAR1q7b_IUVFdQiT5ofYzPqDA9ougF2XXlnsxupcXJcNYOgRfAzrwXSKoVAE" rel="nofollow noopener" style="color: rgb(56\, 88\, 152)\; cursor: pointer\; text-decoration-line: none\; font-family: Helvetica\, Arial\, sans-serif\; font-size: 14px\; white-space: pre-wrap\;" target="_blank">https://www.bedbarnwi.com/single-post/2019/04/28/WANTED-Vendors-Crafters-Farmers-Market-6th-Annual-Sidewalk-Sale</a>
LOCATION:Pawling Ave\, Hartland\, WI 53029
UID:e.522.137821
SEQUENCE:3
DTSTAMP:20260425T023819Z
URL:https://business.hartland-wi.org/events/details/6th-annual-sidewalk-sale-downtown-hartland-137821
END:VEVENT

END:VCALENDAR
