BEGIN:VCALENDAR
VERSION:2.0
PRODID:-//ChamberMaster//Event Calendar 2.0//EN
METHOD:PUBLISH
X-PUBLISHED-TTL:P3D
REFRESH-INTERVAL:P3D
CALSCALE:GREGORIAN
BEGIN:VEVENT
DTSTART:20150711T140000Z
DTEND:20150711T210000Z
X-MICROSOFT-CDO-ALLDAYEVENT:FALSE
SUMMARY:40th Annual Lake Country Art Festival - hosted by the Lake Country Women's Club
DESCRIPTION:The 40th Annual Lake Country Art Festival is the perfect way to spend a summer Saturday - shopping\, enjoying the children's activities\, listening to live music\, enjoying delicious food\, and all for a great cause!  The art festival is the primary fundraising event for the Lake Country Women's Club.\n\n\n\nVisit over 110 juried artists specializing in pottery\, glass\, woodwork\, fine art\, jewelry\, textiles\, yard art\, and more!  For the kids\, there are arts and crafts\, and other surprises at the Children's Area.  Don't miss the Silent Auction Tent\, where items from our talented artists are up for bid.  Enjoy free entertainment throughout the day\, and delicious food and beverages provided by the Delafield Brewhaus. \n\n\n\nThe art festival is Saturday\, July 11\, 2015 from 9am-4pm at Naga-Waukee County Park in Delafield\, Wisconsin.  Admission fee is a $5 per carload donation to the Lake Country Women's Club.  The proceeds raised through the Lake Country Art Festival support local charities\, including area food pantries\, free clinic for uninsured\, women's shelters\, and educational scholarships.
X-ALT-DESC;FMTTYPE=text/html:The 40th Annual Lake Country Art Festival is the perfect way to spend a summer Saturday - shopping\, enjoying the children&#39\;s activities\, listening to live music\, enjoying delicious food\, and all for a great cause!&nbsp\; The art festival is the primary fundraising event for the Lake Country Women&#39\;s Club.<br />\n<br />\nVisit over 110 juried artists specializing in pottery\, glass\, woodwork\, fine art\, jewelry\, textiles\, yard art\, and more!&nbsp\; For the kids\, there are arts and crafts\, and other surprises at the Children&#39\;s Area.&nbsp\; Don&#39\;t miss the Silent Auction Tent\, where items from our talented artists are up for bid.&nbsp\; Enjoy free entertainment throughout the day\, and delicious food and beverages provided by the Delafield Brewhaus.&nbsp\;<br />\n<br />\nThe art festival is Saturday\, July 11\, 2015 from 9am-4pm at Naga-Waukee County Park in Delafield\, Wisconsin.&nbsp\; Admission fee is a $5 per carload donation to the Lake Country Women&#39\;s Club.&nbsp\; The proceeds raised through the Lake Country Art Festival support local charities\, including area food pantries\, free clinic for uninsured\, women&#39\;s shelters\, and educational scholarships.
LOCATION:Naga-Waukee County Park\, Delafield\, WI. 1/4 mile north of I-94 on Hwy 83.
UID:e.522.133081
SEQUENCE:3
DTSTAMP:20260421T144208Z
URL:https://business.hartland-wi.org/events/details/40th-annual-lake-country-art-festival-hosted-by-the-lake-country-women-s-club-07-11-2015-133081
END:VEVENT

END:VCALENDAR
