BEGIN:VCALENDAR
VERSION:2.0
PRODID:-//ChamberMaster//Event Calendar 2.0//EN
METHOD:PUBLISH
X-PUBLISHED-TTL:P3D
REFRESH-INTERVAL:P3D
CALSCALE:GREGORIAN
BEGIN:VEVENT
DTSTART:20130713T140000Z
DTEND:20130713T210000Z
X-MICROSOFT-CDO-ALLDAYEVENT:FALSE
SUMMARY:38th Annual Lake Country Art Festival - hosted by the Lake Country Women's Club
DESCRIPTION:The 38th Annual Lake Country Art Festival is the perfect way to spend a summer Saturday - shopping\, enjoying the children's activities\, listening to live music and enjoying delicious food\, and all for a great cause!  The art festival is the primary fundraising event of the Lake Country Women's Club.\n\n\n\nVisit over 140 juried artists specializing in pottery\, glass\, woodwork\, fine art\, jewelry\, textiles\, yard art\, and more!   For the kids\, there are arts and crafts and other surprises at the Children's Area.  Don't miss the Silent Auction Tent\, where items from our talented artists are up for bid.  Enjoy free entertainment throughout the day\, and a delicious award winning barbeque sandwich or made to order stone-fired pizza from the 'Barbecue Co.'\, or indulge in local artisan edibles such as homemade ice cream and other treats! \n\n\n\nThe art festival is Saturday\, July 13\, 2013 from 9am-4pm at Naga-Waukee County Park in Delafield\, WI.  Admission fee is a $5 per carload donation.  The proceeds raised through the Lake Country Art Festival support local charities\, including area food pantries\, free clinic for under-insured\, hospice care\, women's shelters\, educational scholarships\, and much more!
X-ALT-DESC;FMTTYPE=text/html:The 38th Annual Lake Country Art Festival is the perfect way to spend a summer Saturday - shopping\, enjoying the children&#39\;s activities\, listening to live music and enjoying delicious food\, and all for a great cause!&nbsp\; The art festival is the primary fundraising event of the Lake Country Women&#39\;s Club.<br />\n<br />\nVisit over 140 juried artists specializing in pottery\, glass\, woodwork\, fine art\, jewelry\, textiles\, yard art\, and more!&nbsp\;&nbsp\; For the kids\, there are arts and crafts and other surprises at the Children&#39\;s Area.&nbsp\; Don&#39\;t miss the Silent Auction Tent\, where items from our talented artists are up for bid.&nbsp\; Enjoy&nbsp\;free entertainment throughout the day\, and a delicious&nbsp\;award winning barbeque sandwich or made to order stone-fired pizza&nbsp\;from the &#39\;Barbecue Co.&#39\;\, or indulge in local artisan edibles such as homemade ice cream and other treats!&nbsp\;<br />\n<br />\nThe art festival is Saturday\, July 13\, 2013 from 9am-4pm at Naga-Waukee County Park in Delafield\, WI.&nbsp\; Admission fee is a $5 per carload donation.&nbsp\; The proceeds raised through the Lake Country Art Festival support local&nbsp\;charities\, including area food pantries\, free clinic for under-insured\, hospice care\, women&#39\;s shelters\, educational scholarships\, and much more!
LOCATION:Naga-Waukee County Park\, Delafield\, WI. 1/4 mile north of I-94 on Hwy 83
UID:e.522.132379
SEQUENCE:3
DTSTAMP:20260420T182322Z
URL:https://business.hartland-wi.org/events/details/38th-annual-lake-country-art-festival-hosted-by-the-lake-country-women-s-club-07-13-2013-132379
END:VEVENT

END:VCALENDAR
