BEGIN:VCALENDAR
VERSION:2.0
PRODID:-//ChamberMaster//Event Calendar 2.0//EN
METHOD:PUBLISH
X-PUBLISHED-TTL:P3D
REFRESH-INTERVAL:P3D
CALSCALE:GREGORIAN
BEGIN:VEVENT
DTSTART:20121026T233000Z
DTEND:20121027T010000Z
X-MICROSOFT-CDO-ALLDAYEVENT:FALSE
SUMMARY:33rd Senate District Candidate Forum
DESCRIPTION:33rd Senate District Candidate Forum\n\n	Date: October 26\, 2012\n\n	Time: 6:30 PM - 8:00 PM\n\n	 \n\n	Attend the 33rd Senate District Candidate Forum as Rep. Paul Farrow and Rep. Chris Kapenga vie for the open seat in the Wisconsin State Senate.\n\n	\n\n	Other partnering organizations include\, Delafield Chamber of Commerce\, Delafield Public Library\, Pewaukee Chamber of Commerce\, Sussex Chamber of Commerce and Waukesha Business Alliance.
X-ALT-DESC;FMTTYPE=text/html:<h3>\n	<span style="color: #a52a2a">33rd Senate District Candidate Forum</span></h3>\n<div id="cm_events_event_date">\n	<span style="color: #a52a2a"><strong>Date:</strong></span> October 26\, 2012<br />\n	<strong><span style="color: #a52a2a">Time:</span></strong><span style="color: #a52a2a"><strong> </strong></span>6:30 PM - 8:00 PM</div>\n<div id="cm_events_event_url">\n	&nbsp\;</div>\n<div id="cm_events_description">\n	<span class="cm_editor_fix"><span style="font-size: 12px"><span style="font-family: arial">Attend the 33rd Senate District Candidate Forum as Rep. Paul Farrow and Rep. Chris Kapenga vie for the open seat in the Wisconsin State Senate.<br />\n	<br />\n	Other partnering organizations include\, Delafield Chamber of Commerce\, Delafield Public Library\,&nbsp\;Pewaukee Chamber of Commerce\, Sussex Chamber of Commerce and Waukesha Business Alliance.</span></span></span></div>\n
LOCATION:City of Delafield Council Chambers 500 Genesee Street Delafield **There is a maximum capacity of 208 people. Seating will be on a first come\, first-served basis. There is both street parking and a large parking lot located on the east side of city hall.
UID:e.522.132030
SEQUENCE:3
DTSTAMP:20260421T093352Z
URL:https://business.hartland-wi.org/events/details/33rd-senate-district-candidate-forum-10-26-2012-132030
END:VEVENT

END:VCALENDAR
