BEGIN:VCALENDAR
VERSION:2.0
PRODID:-//ChamberMaster//Event Calendar 2.0//EN
METHOD:PUBLISH
X-PUBLISHED-TTL:P3D
REFRESH-INTERVAL:P3D
CALSCALE:GREGORIAN
BEGIN:VEVENT
DTSTART:20180620T110000Z
DTEND:20180620T190000Z
X-MICROSOFT-CDO-ALLDAYEVENT:FALSE
SUMMARY:$30 - Senior Golf Day
DESCRIPTION:18 Holes of Golf w/ Cart\n\nAge 55+
X-ALT-DESC;FMTTYPE=text/html:<p style="margin-left:0px\; margin-right:0px\; text-align:left">18 Holes of Golf w/ Cart</p>\n\n<p style="margin-left:0px\; margin-right:0px\; text-align:left">Age 55+</p>\n
LOCATION:
UID:e.522.137480
SEQUENCE:3
DTSTAMP:20260424T022531Z
URL:https://business.hartland-wi.org/events/details/30-senior-golf-day-137480
END:VEVENT

END:VCALENDAR
