BEGIN:VCALENDAR
VERSION:2.0
PRODID:-//ChamberMaster//Event Calendar 2.0//EN
METHOD:PUBLISH
X-PUBLISHED-TTL:P3D
REFRESH-INTERVAL:P3D
CALSCALE:GREGORIAN
BEGIN:VEVENT
DTSTART:20110318T200000Z
DTEND:20110322T230000Z
X-MICROSOFT-CDO-ALLDAYEVENT:FALSE
SUMMARY:2011 Helen Farnsworth Mears' Art Contest
DESCRIPTION:The Woman's Club of Hartland is sponsoring the 2011 Helen Farnsworth Mears' Art Contest on Tuesday\, March 22\, 2011.  Eleven area schools plus home schooled students will participate in the contest.  The artwork\, totaling 92 pieces\, will be on display at the Flanagan-Dorn American Legion.  The contest will be judged in the morning by two former art teachers\, Mr. Todd Schlitt and Mr. John Schoenknecht.  There will be a public reception from 3 p.m. until 6 p.m.
X-ALT-DESC;FMTTYPE=text/html:The Woman's Club of Hartland is sponsoring the 2011 Helen Farnsworth Mears' Art Contest on Tuesday\, March 22\, 2011.  Eleven area schools plus home schooled students will participate in the contest.  The artwork\, totaling 92 pieces\, will be on display at the Flanagan-Dorn American Legion.  The contest will be judged in the morning by two former art teachers\, Mr. Todd Schlitt and Mr. John Schoenknecht.  There will be a public reception from 3 p.m. until 6 p.m.  
LOCATION:Flanagan-Dorn American Legion
UID:e.522.131553
SEQUENCE:3
DTSTAMP:20260422T203352Z
URL:https://business.hartland-wi.org/events/details/2011-helen-farnsworth-mears-art-contest-03-18-2011-131553
END:VEVENT

END:VCALENDAR
