BEGIN:VCALENDAR
VERSION:2.0
PRODID:-//ChamberMaster//Event Calendar 2.0//EN
METHOD:PUBLISH
X-PUBLISHED-TTL:P3D
REFRESH-INTERVAL:P3D
CALSCALE:GREGORIAN
BEGIN:VEVENT
DTSTART;VALUE=DATE:20110624
DTEND;VALUE=DATE:20110626
TRANSP:TRANSPARENT
X-MICROSOFT-CDO-ALLDAYEVENT:TRUE
SUMMARY:2011 Audacious Beer & Cheese Festival
DESCRIPTION:2011 Audacious Beer & Cheese Festival\n\n	\n\n	Friday Night Special Feature\, June 24th\, 6:30pm in Delafield\, WI\n\n	\n\n	"Friday Flights"\n\n	Meet the Brewer and Cheesemaker at 5 private tastings\n\n	Enjoy an up close and personal Beer and Cheese tasting at 5 special locations in Delafield. Each flight of beer and cheese will be presented by the Cheese maker and Brewery. Attendees will be able to learn more about the history\, traditions and process from the artisan and have an experience few rarely are able to enjoy.\n\n	\n\n	The following is the list of Breweries and Cheesmakers who are scheduled for these very special tasting events. Attendance will be limited to 20 attendees.\n\n	\n\n	Carr Valley Cheese & Merchant duVin Brewery @ Delafield Hotel\n\n	Saxon Homestead Cheese & Van Berg and DuWulf Brewery @ Hawks Inn\n\n	Roelli Cheese & Founders Brewery @ Reveres Wells Street Tavern\n\n	Edelweiss Cheese & Capital Brewery @ Reveres Wells Street Tavern\n\n	Seymour Cheese & Great Lakes Brewery @ Reveres Wells Street Tavern\n\n	\n\n	After the Friday Flights sessions conclude join venues the Audacious Beer & Cheese Celebration at Nixon Park in Hartland. The 180' tent will feature 11 world class beers on tap\, 4 pack samplers\, specialty food venues\, live music and Fireworks at dusk. This is open to the public and is a fun Village event.\n\n	\n\n	Saturday\, June 25th 3:30 - 6:00pm at Nixon Park in Hartland\n\n	\n\n	"Premier Beer & Cheese Tasting"\n\n	The Audacious Beer and Cheese Celebration "worlds greatest beer and cheese tasting" will be limited to 200 attendees who will sample and be able to purchase the very best artisan cheeses at 8 Cheesemaker tables. Each Cheesemakers' table will be flanked by a brewers table so let the tasting begin! Tasting glassware\, brochures explaining tasting guides\, suggested pairings\, Cheesemakers and Brewer map\, a silent and live auction will also be wrapped into this Rotary sponsored fund raising celebration.\n\n	\n\n	Night of the Barrels Party - June 25th 6:30-11:30pm\n\n	\n\n	After the tasting is over the tent will be open to the public and the food vendors\, tap handles and live music will round out the evening.\n\n	\n\n	My hope is that you will consider jumping on board for the event and celebrate all that is good in Wisconsin!\n\n	\n\n	Warmest regards\,\n\n	Mike Brown\n\n	Festvangelist
X-ALT-DESC;FMTTYPE=text/html:<p>\n	<span style="font-size: 16px"><strong>2011 Audacious Beer &amp\; Cheese Festival</strong></span><br />\n	<br />\n	Friday Night Special Feature\, June 24th\, 6:30pm in Delafield\, WI<br />\n	<br />\n	<span style="font-size: 14px"><strong>&ldquo\;Friday Flights&rdquo\;</strong></span><br />\n	Meet the Brewer and Cheesemaker at 5 private tastings<br />\n	Enjoy an up close and personal Beer and Cheese tasting at 5 special locations in Delafield. Each flight of beer and cheese will be presented by the Cheese maker and Brewery. Attendees will be able to learn more about the history\, traditions and process from the artisan and have an experience few rarely are able to enjoy.<br />\n	<br />\n	The following is the list of Breweries and Cheesmakers who are scheduled for these very special tasting events. Attendance will be limited to 20 attendees.<br />\n	<br />\n	Carr Valley Cheese &amp\; Merchant duVin Brewery @ Delafield Hotel<br />\n	Saxon Homestead Cheese &amp\; Van Berg and DuWulf Brewery @ Hawks Inn<br />\n	Roelli Cheese &amp\; Founders Brewery @ Reveres Wells Street Tavern<br />\n	Edelweiss Cheese &amp\; Capital Brewery @ Reveres Wells Street Tavern<br />\n	Seymour Cheese &amp\; Great Lakes Brewery @ Reveres Wells Street Tavern<br />\n	<br />\n	After the Friday Flights sessions conclude join venues the Audacious Beer &amp\; Cheese Celebration at Nixon Park in Hartland. The 180&rsquo\; tent will feature 11 world class beers on tap\, 4 pack samplers\, specialty food venues\, live music and Fireworks at dusk. This is open to the public and is a fun Village event.<br />\n	<br />\n	Saturday\, June 25th 3:30 - 6:00pm at Nixon Park in Hartland<br />\n	<br />\n	<span style="font-size: 14px"><strong>&ldquo\;Premier Beer &amp\; Cheese Tasting&rdquo\;</strong></span><br />\n	The Audacious Beer and Cheese Celebration &ldquo\;worlds greatest beer and cheese tasting&rdquo\; will be limited to 200 attendees who will sample and be able to purchase the very best artisan cheeses at 8 Cheesemaker tables. Each Cheesemakers&rsquo\; table will be flanked by a brewers table so let the tasting begin! Tasting glassware\, brochures explaining tasting guides\, suggested pairings\, Cheesemakers and Brewer map\, a silent and live auction will also be wrapped into this Rotary sponsored fund raising celebration.<br />\n	<br />\n	Night of the Barrels Party - June 25th 6:30-11:30pm<br />\n	<br />\n	After the tasting is over the tent will be open to the public and the food vendors\, tap handles and live music will round out the evening.<br />\n	<br />\n	My hope is that you will consider jumping on board for the event and celebrate all that is good in Wisconsin!<br />\n	<br />\n	Warmest regards\,<br />\n	Mike Brown<br />\n	Festvangelist<br />\n	<br />\n	&nbsp\;</p>\n
LOCATION:Nixon Park - Hartland WI
UID:e.522.131723
SEQUENCE:3
DTSTAMP:20260420T105542Z
URL:https://business.hartland-wi.org/events/details/2011-audacious-beer-cheese-festival-06-24-2011-131723
END:VEVENT

END:VCALENDAR
