BEGIN:VCALENDAR
VERSION:2.0
PRODID:-//ChamberMaster//Event Calendar 2.0//EN
METHOD:PUBLISH
X-PUBLISHED-TTL:P3D
REFRESH-INTERVAL:P3D
CALSCALE:GREGORIAN
BEGIN:VEVENT
DTSTART:20180515T220000Z
DTEND:20180516T000000Z
X-MICROSOFT-CDO-ALLDAYEVENT:FALSE
SUMMARY:20/20 NETWORKING
DESCRIPTION:20/20 NETWORKING\n\n\n\nThe Hartland Chamber of Commerce\n\nand\n\nPewaukee Chamber of Commerce\n\nhave partnered to provide a unique networking\n\nand educational opportunity for our members!\n \n\nWhat is 20/20 Networking?\n\n20/20 Networking is an effective\, low-cost marketing method for developing sales opportunities and contacts\, based on referrals and introductions - a way for you to make the maxim\, "It's not what you know\, it's who you know"\, work for you.\n\n\n\nMonthly\, chamber members will have the chance to come together and visit each others' communities for:\n\n\n	20 minutes of networking\, followed by...\n	20 minutes of education courtesy of a guest speaker or "learn a new skill set"\, followed by...\n	20 minutes of questions/answers\, referral appreciation nods and extended networking Then\, at the conclusion of each formal program...\n	The host Chamber will share a list of local\, member eateries to consider for those who wish to continue conversations over lunch and strengthen alliances formed.\n\n\n\n\n\nTHIS MONTH:\n\nAshley Furniture\n\nPewaukee\, WI\n\n\n\nPLEASE NOTE THE CHANGE IN TIME FOR THIS MONTH!\n\n\n\nAshley now carries fabulous brand name appliances at the guaranteed lowest prices in all of Wisconsin. Come see these great appliances and all that Ashley HomeStore has to offer and network with the Hartland and Pewaukee Chamber of Commerce members and local builders.\n\n\n\nFood and refreshments will be provided.
X-ALT-DESC;FMTTYPE=text/html:<div style="text-align: center\;"><strong><u><span style="color: mediumblue\;"><span comic="" sans="" style="font-family: "><span style="font-size: 13.5pt\;">20/20 NETWORKING</span></span></span></u></strong><br />\n<br />\n<strong><span style="color: purple\;"><span comic="" sans="" style="font-family: "><span style="font-size: 10.5pt\;">The&nbsp\;Hartland&nbsp\;Chamber of Commerce<br />\nand<br />\nPewaukee&nbsp\;Chamber of Commerce<br />\nhave partnered to provide a unique networking<br />\nand educational opportunity for our members!</span></span></span></strong></div>\n&nbsp\;<br />\n<strong><span style="color: blue\;"><span style="font-family: arial\, sans-serif\;"><span style="font-size: 12pt\;">What is 20/20 Networking?</span></span></span></strong><br />\n<strong><span style="color: blue\;"><span style="font-family: arial\, sans-serif\;"><span style="font-size: 10pt\;">20/20 Networking&nbsp\;</span></span></span></strong><span style="font-family: arial\, sans-serif\;"><span style="font-size: 10pt\;">is an effective\, low-cost marketing method for developing sales opportunities and contacts\, based on referrals and introductions - a way for you to make the maxim\, &ldquo\;It&rsquo\;s not&nbsp\;<em>what</em>&nbsp\;you know\, it&rsquo\;s&nbsp\;<em>who</em>&nbsp\;you know&rdquo\;\, work for you.<br />\n<br />\nMonthly\, chamber members will have the chance to come together and visit each others&rsquo\; communities for:</span></span>\n\n<ul>\n	<li style="line-height: normal\;"><strong><em><span style="color: blue\;"><span style="font-family: arial\, sans-serif\;"><span style="font-size: 10pt\;">20 minutes&nbsp\;</span></span></span></em></strong><em><span style="font-family: arial\, sans-serif\;"><span style="font-size: 10pt\;">of networking\, followed by...</span></span></em></li>\n	<li style="line-height: normal\;"><strong><em><span style="color: blue\;"><span style="font-family: arial\, sans-serif\;"><span style="font-size: 10pt\;">20 minutes</span></span></span></em></strong><em><span style="font-family: arial\, sans-serif\;"><span style="font-size: 10pt\;">&nbsp\;of education courtesy of a guest speaker or &quot\;learn a new skill set&quot\;\, followed by...</span></span></em></li>\n	<li style="line-height: normal\;"><strong><em><span style="color: blue\;"><span style="font-family: arial\, sans-serif\;"><span style="font-size: 10pt\;">20 minutes</span></span></span></em></strong><em><span style="font-family: arial\, sans-serif\;"><span style="font-size: 10pt\;">&nbsp\;of questions/answers\, referral appreciation nods and extended networking&nbsp\;<em><span style="font-size: 10pt\;">Then\, at the conclusion of each formal program</span></em><span style="font-size: 10pt\;">...</span></span></span></em></li>\n	<li style="line-height: normal\;"><span style="font-family: arial\, sans-serif\;"><span style="font-size: 10pt\;">The host Chamber will share a list of local\, member eateries to consider for those who wish to continue conversations over lunch and strengthen alliances formed.</span></span></li>\n</ul>\n<br />\n<br />\n<strong><span style="font-size: 14px\;">THIS MONTH:</span></strong><br />\n<font color="#0000ff"><b><i>Ashley&nbsp\;Furniture<br />\nPewaukee\, WI</i></b></font><br />\n<br />\n<em><strong><span style="color:#FF0000\;">PLEASE NOTE THE CHANGE IN TIME FOR THIS MONTH!</span></strong></em><br />\n<br />\n<span style="font-size:14px\;"><span style="color: rgb(68\, 68\, 68)\; font-family: arial\;">Ashley now carries&nbsp\;fabulous brand name appliances&nbsp\;at the guaranteed lowest prices in all of Wisconsin. Come see these great appliances and all that Ashley HomeStore has to offer and network with the Hartland&nbsp\;and Pewaukee&nbsp\;Chamber of Commerce members&nbsp\;and local builders.</span><br style="box-sizing: content-box\; bottom: auto\; clear: none\; color: rgb(68\, 68\, 68)\; content: normal\; direction: inherit\; display: inline\; empty-cells: show\; float: none\; font-variant-numeric: inherit\; font-variant-east-asian: inherit\; font-stretch: inherit\; font-size: 16px\; font-family: arial\; left: auto\; line-height: inherit\; margin: 0px\; max-height: none\; max-width: none\; min-height: initial\; min-width: initial\; opacity: 1\; outline-offset: 0px\; overflow: visible\; padding: 0px\; position: static\; resize: none\; right: auto\; table-layout: auto\; text-overflow: clip\; top: auto\; vertical-align: baseline\; visibility: inherit\; word-break: inherit\; word-wrap: inherit\; z-index: auto\; background: none\; border: none\; border-collapse: separate\; border-radius: 0px\; height: auto\; width: auto\;" />\n<br style="box-sizing: content-box\; bottom: auto\; clear: none\; color: rgb(68\, 68\, 68)\; content: normal\; direction: inherit\; display: inline\; empty-cells: show\; float: none\; font-variant-numeric: inherit\; font-variant-east-asian: inherit\; font-stretch: inherit\; font-size: 16px\; font-family: arial\; left: auto\; line-height: inherit\; margin: 0px\; max-height: none\; max-width: none\; min-height: initial\; min-width: initial\; opacity: 1\; outline-offset: 0px\; overflow: visible\; padding: 0px\; position: static\; resize: none\; right: auto\; table-layout: auto\; text-overflow: clip\; top: auto\; vertical-align: baseline\; visibility: inherit\; word-break: inherit\; word-wrap: inherit\; z-index: auto\; background: none\; border: none\; border-collapse: separate\; border-radius: 0px\; height: auto\; width: auto\;" />\n<span style="color: rgb(68\, 68\, 68)\; font-family: arial\;">Food and refreshments will be provided.</span></span>
LOCATION:Ashley HomeStore 1230 Capitol Dr Pewaukee\, WI 53072
UID:e.522.137159
SEQUENCE:3
DTSTAMP:20260424T005923Z
URL:https://business.hartland-wi.org/events/details/20-20-networking-137159
END:VEVENT

END:VCALENDAR
