BEGIN:VCALENDAR
VERSION:2.0
PRODID:-//ChamberMaster//Event Calendar 2.0//EN
METHOD:PUBLISH
X-PUBLISHED-TTL:P3D
REFRESH-INTERVAL:P3D
CALSCALE:GREGORIAN
BEGIN:VEVENT
DTSTART:20170126T173000Z
DTEND:20170126T183000Z
X-MICROSOFT-CDO-ALLDAYEVENT:FALSE
SUMMARY:20/20 NETWORKING
DESCRIPTION:20/20 NETWORKING\n\n\n\nThe Hartland Chamber of Commerce\n\nand\n\nPewaukee Chamber of Commerce\n\nhave partnered to provide a unique networking\n\nand educational opportunity for our members!\n \n\nWhat is 20/20 Networking?\n\n20/20 Networking is an effective\, low-cost marketing method for developing sales opportunities and contacts\, based on referrals and introductions - a way for you to make the maxim\, "It's not what you know\, it's who you know"\, work for you.\n\n\n\nMonthly\, chamber members will have the chance to come together and visit each others' communities for:\n\n\n	20 minutes of networking\, followed by...\n	20 minutes of education courtesy of a guest speaker or "learn a new skill set"\, followed by...\n	20 minutes of questions/answers\, referral appreciation nods and extended networking Then\, at the conclusion of each formal program...\n	The host Chamber will share a list of local\, member eateries to consider for those who wish to continue conversations over lunch and strengthen alliances formed.\n\nTHIS MONTH:\n\nDigital Media Lab\n\n700 W. North Shore Drive\n\nHartland\, WI  53029\n\n\n\nCome learn how to tell the amazing story of your business.  Digital Media Lab offers workshops and classes to the community to help you understand and learn how to use digital marketing tools to tell your story and grow your business. Start the year strong with tools to help market your business.
X-ALT-DESC;FMTTYPE=text/html:<div style="text-align: center\;"><strong><u><span style="color:mediumblue\;"><span style="font-family:comic sans ms\;"><span style="font-size:13.5pt\;">20/20 NETWORKING</span></span></span></u></strong><br />\n<br />\n<strong><span style="color:purple\;"><span style="font-family:comic sans ms\;"><span style="font-size:10.5pt\;">The&nbsp\;Hartland&nbsp\;Chamber of Commerce<br />\nand<br />\nPewaukee&nbsp\;Chamber of Commerce<br />\nhave partnered to provide a unique networking<br />\nand educational opportunity for our members!</span></span></span></strong></div>\n&nbsp\;<br />\n<strong><span style="color:blue\;"><span style="font-family:arial\,sans-serif\;"><span style="font-size:12.0pt\;">What is 20/20 Networking?</span></span></span></strong><br />\n<strong><span style="color:blue\;"><span style="font-family:arial\,sans-serif\;"><span style="font-size:10.0pt\;">20/20 Networking&nbsp\;</span></span></span></strong><span style="color:#333333\;"><span style="font-family:arial\,sans-serif\;"><span style="font-size:10.0pt\;">is an effective\, low-cost marketing method for developing sales opportunities and contacts\, based on referrals and introductions - a way for you to make the maxim\, &ldquo\;It&rsquo\;s not&nbsp\;<em>what</em>&nbsp\;you know\, it&rsquo\;s&nbsp\;<em>who</em>&nbsp\;you know&rdquo\;\, work for you.<br />\n<br />\nMonthly\, chamber members will have the chance to come together and visit each others&rsquo\; communities for:</span></span></span>\n\n<ul>\n	<li style="color:#333333\;line-height:normal\;"><strong><em><span style="color:blue\;"><span style="font-family:arial\,sans-serif\;"><span style="font-size:10.0pt\;">20 minutes&nbsp\;</span></span></span></em></strong><em><span style="font-family:arial\,sans-serif\;"><span style="font-size:10.0pt\;">of networking\, followed by...</span></span></em></li>\n	<li style="color:#333333\;line-height:normal\;"><strong><em><span style="color:blue\;"><span style="font-family:arial\,sans-serif\;"><span style="font-size:10.0pt\;">20 minutes</span></span></span></em></strong><em><span style="font-family:arial\,sans-serif\;"><span style="font-size:10.0pt\;">&nbsp\;of education courtesy of a guest speaker or &quot\;learn a new skill set&quot\;\, followed by...</span></span></em></li>\n	<li style="color:#333333\;line-height:normal\;"><strong><em><span style="color:blue\;"><span style="font-family:arial\,sans-serif\;"><span style="font-size:10.0pt\;">20 minutes</span></span></span></em></strong><em><span style="font-family:arial\,sans-serif\;"><span style="font-size:10.0pt\;">&nbsp\;of questions/answers\, referral appreciation nods and extended networking&nbsp\;<em><span style="font-family:arial\,sans-serif\;"><span style="font-size:10.0pt\;">Then\, at the conclusion of each formal program</span></span></em><span style="font-family:arial\,sans-serif\;"><span style="font-size:10.0pt\;">...</span></span></span></span></em></li>\n	<li style="color:#333333\;line-height:normal\;"><span style="font-family:arial\,sans-serif\;"><span style="font-size:10.0pt\;">The host Chamber will share a list of local\, member eateries to consider for those who wish to continue conversations over lunch and strengthen alliances formed.</span></span></li>\n</ul>\n<strong><span style="font-size: 14px\;">THIS MONTH:</span></strong><br />\n<font color="#0000ff"><b><i>Digital Media Lab<br />\n700 W. North Shore Drive<br />\nHartland\, WI &nbsp\;53029</i></b></font><br />\n<br />\nCome learn how to tell the amazing story of your business. &nbsp\;Digital Media Lab offers workshops and classes to the community to help you understand and learn how to use digital marketing tools to tell your story and grow your business. Start the year strong with tools to help market your business.<br />\n&nbsp\;
LOCATION:700 W. North Shore Drive Hartland\, WI 53029
UID:e.522.133883
SEQUENCE:3
DTSTAMP:20260422T221741Z
URL:https://business.hartland-wi.org/events/details/20-20-networking-133883
END:VEVENT

END:VCALENDAR
