BEGIN:VCALENDAR
VERSION:2.0
PRODID:-//ChamberMaster//Event Calendar 2.0//EN
METHOD:PUBLISH
X-PUBLISHED-TTL:P3D
REFRESH-INTERVAL:P3D
CALSCALE:GREGORIAN
BEGIN:VEVENT
DTSTART:20161026T163000Z
DTEND:20161026T173000Z
X-MICROSOFT-CDO-ALLDAYEVENT:FALSE
SUMMARY:20/20 NETWORKING
DESCRIPTION:Changes Per Session\n\nAlways review here for update\n\n\n\nTHIS MONTH:\n\nPeaceful Plum Yoga and Meditation\n\nW238 N1690 Rockwood Drive\, #200\n\nWaukesha\, WI  53188
X-ALT-DESC;FMTTYPE=text/html:Changes Per Session<br />\nAlways review here for update<br />\n<br />\n<strong><span style="font-size: 14px\;">THIS MONTH:</span></strong><br />\n<span style="color: rgb(0\, 0\, 255)\;"><strong><em>Peaceful Plum Yoga and </em></strong></span><span style="color: rgb(0\, 0\, 255)\;"><strong><em>Meditation<br />\nW238 N1690 Rockwood Drive\, #200<br />\nWaukesha\, WI&nbsp\; 53188</em></strong></span><br />\n<br />\n<br />\n&nbsp\;
LOCATION:W238 N1690 Rockwood Drive\, #200 Waukesha\, WI 53188
UID:e.522.133837
SEQUENCE:3
DTSTAMP:20260422T164918Z
URL:https://business.hartland-wi.org/events/details/20-20-networking-133837
END:VEVENT

END:VCALENDAR
