BEGIN:VCALENDAR
VERSION:2.0
PRODID:-//ChamberMaster//Event Calendar 2.0//EN
METHOD:PUBLISH
X-PUBLISHED-TTL:P3D
REFRESH-INTERVAL:P3D
CALSCALE:GREGORIAN
BEGIN:VEVENT
DTSTART:20160928T210000Z
DTEND:20160928T220000Z
X-MICROSOFT-CDO-ALLDAYEVENT:FALSE
SUMMARY:20/20 NETWORKING
DESCRIPTION:Changes Per Session\n\nAlways review here for update\n\n\n\nTHIS MONTH:\n\nHot Air Ballooning - Ron and Deb Nollen\n\nHeld at Our Savior's Evangelical Lutheran Church\n\nW299 N5782 County Road E\, Hartland\n\n\n\nJoin us to learn more about the history of Hot Air Ballooning and see the "envelope" close up (weather permitting).  Ron and Deb travel the US via their motorcycle and have been piloting hot air balloons for almost 30 years!\n\n\n\nPLEASE NOTE THE CHANGE IN TIME FOR THIS MONTH'S SESSION
X-ALT-DESC;FMTTYPE=text/html:Changes Per Session<br />\nAlways review here for update<br />\n<br />\n<strong><span style="font-size: 14px\;">THIS MONTH:</span></strong><br />\n<span style="color: rgb(0\, 0\, 255)\;"><strong><em>Hot Air Ballooning - Ron and Deb Nollen<br />\nHeld at Our Savior&#39\;s Evangelical Lutheran Church<br />\nW299 N5782 County Road E\, Hartland</em></strong></span><br />\n<br />\n<span style="color: rgb(0\, 0\, 255)\;"><strong>Join us to learn more about the history of Hot Air Ballooning and see the &quot\;envelope&quot\; close up (weather permitting). &nbsp\;Ron and Deb travel the US via their motorcycle and have been piloting&nbsp\;hot air balloons for almost 30 years!</strong></span><br />\n<br />\n<strong><span style="background-color: rgb(255\, 255\, 0)\;">PLEASE NOTE THE CHANGE IN TIME FOR THIS MONTH&#39\;S SESSION</span></strong>
LOCATION:Our Savior's Evangelical Lutheran Church W299 N5782 County Road E-Hartland (right past Swallow School)
UID:e.522.133810
SEQUENCE:3
DTSTAMP:20260422T150329Z
URL:https://business.hartland-wi.org/events/details/20-20-networking-09-28-2016-133810
END:VEVENT

END:VCALENDAR
