BEGIN:VCALENDAR
VERSION:2.0
PRODID:-//ChamberMaster//Event Calendar 2.0//EN
METHOD:PUBLISH
X-PUBLISHED-TTL:P3D
REFRESH-INTERVAL:P3D
CALSCALE:GREGORIAN
BEGIN:VEVENT
DTSTART:20150923T163000Z
DTEND:20150923T173000Z
X-MICROSOFT-CDO-ALLDAYEVENT:FALSE
SUMMARY:20/20 NETWORKING
DESCRIPTION:20/20 NETWORKING\n\n\n\nThe Hartland Chamber of Commerce\n\nand\n\nPewaukee Chamber of Commerce\n\nhave partnered to provide a unique networking\n\nand educational opportunity for our members!\n\n \n\nWhat is 20/20 Networking?\n\n20/20 Networking is an effective\, low-cost marketing method for developing sales opportunities and contacts\, based on referrals and introductions - a way for you to make the maxim\, "It's not what you know\, it's who you know"\, work for you.\n\n\n\nMonthly\, chamber members will have the chance to come together and visit each others' communities for:\n\n \n\n\n	20 minutes of networking\, followed by...\n	20 minutes of education or "learn a new skill set"\, followed by...\n	20 minutes of questions/answers\, referral appreciation nods and extended networking.\n\n	 \n\n\nHow Do I Register?\n\nClick on Register Online button at the top of this page\, call the chamber office at 262-367-7059 or email your request to chamberdirector@hartland-wi.org.
X-ALT-DESC;FMTTYPE=text/html:<p style="text-align: center\;"><strong><span style="font-size: 14px\;"><span style="font-family: comic sans ms\;"><span style="color: rgb(0\, 0\, 205)\;"><u><span style="font-size: 18px\;">20/20 NETWORKING</span></u></span></span><br />\n<br />\n<span style="font-family: comic sans ms\;"><span style="color: rgb(128\, 0\, 128)\;">The Hartland Chamber of Commerce<br />\nand<br />\nPewaukee Chamber of Commerce<br />\nhave partnered to provide a unique networking<br />\nand educational opportunity for our members!</span></span></span></strong></p>\n\n<p>&nbsp\;<br />\n<span style="color: rgb(0\, 0\, 255)\;"><strong><span style="font-size: 12pt\;"><span style="font-family: arial\,sans-serif\;">What is 20/20 Networking?</span></span></strong></span><br />\n<span style="color: rgb(0\, 0\, 255)\;"><strong><span style="font-family: arial\,sans-serif\;">20/20 Networking </span></strong></span><span style="font-family: arial\,sans-serif\;">is an effective\, low-cost marketing method for developing sales opportunities and contacts\, based on referrals and introductions - a way for you to make the maxim\, &ldquo\;It&rsquo\;s not <em>what</em> you know\, it&rsquo\;s <em>who</em> you know&rdquo\;\, work for you.</span><br />\n<br />\n<span style="font-family: arial\,sans-serif\;">Monthly\, chamber members will have the chance to come together and visit each others&rsquo\; communities for:</span><br />\n&nbsp\;</p>\n\n<ul>\n	<li><span style="font-family: arial\,sans-serif\;"><span style="color: rgb(0\, 0\, 255)\;"><strong><em>20 minutes </em></strong></span><em>of networking\, followed by...</em></span></li>\n	<li><span style="font-family: arial\,sans-serif\;"><em><span style="color: rgb(0\, 0\, 255)\;"><strong>20 minutes</strong></span> of education or &quot\;learn a new skill set&quot\;\, followed by...</em></span></li>\n	<li><span style="font-family: arial\,sans-serif\;"><em><span style="color: rgb(0\, 0\, 255)\;"><strong>20 minutes</strong></span> of questions/answers\, referral appreciation nods and extended networking.</em></span><br />\n	&nbsp\;</li>\n</ul>\n\n<p><span style="font-family: arial\,sans-serif\;"><em><span style="font-family: arial\,sans-serif\;"><span style="font-family: arial\,sans-serif\;"><span style="font-family: arial\,sans-serif\;"><em><span style="font-family: arial\,sans-serif\;"><span style="font-family: arial\,sans-serif\;"><span style="font-family: arial\,sans-serif\;"><span style="font-size: 14px\;"><strong><span style="font-family: arial\,sans-serif\;"><em><span style="font-family: arial\,sans-serif\;"><span style="font-family: arial\,sans-serif\;"><span style="font-family: arial\,sans-serif\;"><em><span style="font-family: arial\,sans-serif\;"><span style="font-family: arial\,sans-serif\;"><span style="font-family: arial\,sans-serif\;"><span style="font-size: 14px\;"><strong><span style="font-family: arial\,sans-serif\;"><em><span style="font-family: arial\,sans-serif\;"><span style="font-family: arial\,sans-serif\;"><span style="font-family: arial\,sans-serif\;"><em><span style="font-family: arial\,sans-serif\;"><span style="font-family: arial\,sans-serif\;"><span style="font-family: arial\,sans-serif\;"><span style="font-size: 14px\;"><strong><span style="font-family: arial\,sans-serif\;"><em><span style="font-family: arial\,sans-serif\;"><span style="font-family: arial\,sans-serif\;"><span style="font-family: arial\,sans-serif\;"><em><span style="font-family: arial\,sans-serif\;"><span style="font-family: arial\,sans-serif\;"><span style="font-family: arial\,sans-serif\;"><span style="font-size: 14px\;"><strong><span style="font-family: arial\,sans-serif\;"><em><span style="font-family: arial\,sans-serif\;"><span style="font-family: arial\,sans-serif\;"><span style="font-family: arial\,sans-serif\;"><span style="font-size: 14px\;"><strong><span style="font-family: arial\,sans-serif\;"><em><span style="font-family: arial\,sans-serif\;"><span style="font-family: arial\,sans-serif\;"><span style="font-family: arial\,sans-serif\;"><em><span style="font-family: arial\,sans-serif\;"><span style="font-family: arial\,sans-serif\;"><span style="font-family: arial\,sans-serif\;"><span style="font-size: 14px\;"><strong><span style="font-family: arial\,sans-serif\;"><em><span style="font-family: arial\,sans-serif\;"><span style="font-family: arial\,sans-serif\;"><span style="font-family: arial\,sans-serif\;"><em><span style="font-family: arial\,sans-serif\;"><span style="font-family: arial\,sans-serif\;"><span style="font-family: arial\,sans-serif\;"><span style="font-size: 14px\;"><strong><span style="font-family: arial\,sans-serif\;"><em><span style="font-family: arial\,sans-serif\;"><span style="font-family: arial\,sans-serif\;"><span style="font-family: arial\,sans-serif\;"><span style="font-size: 14px\;"><strong>How Do I Register?</strong></span></span></span></span></em></span></strong></span></span></span></span></em></span></span></span></em></span></strong></span></span></span></span></em></span></span></span></em></span></strong></span></span></span></span></em></span></strong></span></span></span></span></em></span></span></span></em></span></strong></span></span></span></span></em></span></span></span></em></span></strong></span></span></span></span></em></span></span></span></em></span></strong></span></span></span></span></em><br />\nClick on <strong><span style="background-color: rgb(221\, 160\, 221)\;">Register Online </span></strong>button at the top of this page</span></span></span></em></span><span style="font-family: arial\,sans-serif\;">\, call the chamber office at 262-367-7059 or email your request to chamberdirector@hartland-wi.org.</span><br />\n<br />\n<br />\n&nbsp\;</p>\n
LOCATION:Changes Per Session Always review here for update THIS MONTH: Hike the Ice Age Trail (Meet at Ciottonwood Wayside Park area\, 901 Cottonwood Ave.\, Hartland - nearest cross street is Lindenwood Drive.) Be prepared to walk\; in case of inclement weather\, the program will be moved to the Hartland Public Library. Hartland has recently been named one of the first official Ice Age Trail Communities! Meet with the Hartland Business Improvement District (BID) and the Ice Age Trail Alliance Waukesha County Chapter for a short hike through the marsh to learn more about the trail and the local restoration project.
UID:e.522.133121
SEQUENCE:3
DTSTAMP:20260421T175148Z
URL:https://business.hartland-wi.org/events/details/20-20-networking-09-23-2015-133121
END:VEVENT

END:VCALENDAR
