BEGIN:VCALENDAR
VERSION:2.0
PRODID:-//ChamberMaster//Event Calendar 2.0//EN
METHOD:PUBLISH
X-PUBLISHED-TTL:P3D
REFRESH-INTERVAL:P3D
CALSCALE:GREGORIAN
BEGIN:VEVENT
DTSTART:20160824T163000Z
DTEND:20160824T173000Z
X-MICROSOFT-CDO-ALLDAYEVENT:FALSE
SUMMARY:20/20 NETWORKING
DESCRIPTION:Changes Per Session\n\nAlways review here for update\n\n\n\nTHIS MONTH:\n\nLifeStriders\n\nS11 W29667 Summit Avenue\n\nWaukesha\, WI  53188\n\n\n\nJoin us while we do a little "horsin' around".  Learn about therapeutic riding and get up close and personal to the beautiful equines at LifeStriders.\n\n\n\nIf you are attending this event please follow these guidelines\,\n\nfor your safety and enjoyment:\n\n            - Wear close toed shoes\n\n            - Feel free to bring treats for the horses:  apples\, carrots\, peppermints or\n\n                                                                                  cereal (no chocolate or raisins)
X-ALT-DESC;FMTTYPE=text/html:Changes Per Session<br />\nAlways review here for update<br />\n<br />\n<strong><span style="font-size: 14px\;">THIS MONTH:</span></strong><br />\n<font color="#0000ff"><b><i>LifeStriders<br />\nS11 W29667 Summit Avenue<br />\nWaukesha\, WI&nbsp\; 53188<br />\n<br />\nJoin us while we do a little &quot\;horsin&#39\; around&quot\;.&nbsp\; Learn about therapeutic riding and get up close and personal to the beautiful equines at LifeStriders.</i></b></font><br />\n<br />\n<strong><span style="color: rgb(255\, 0\, 0)\;"><em>If you are attending this event please follow these guidelines\,<br />\nfor your safety and enjoyment:<br />\n&nbsp\;&nbsp\;&nbsp\;&nbsp\;&nbsp\;&nbsp\;&nbsp\; </em></span></strong>&nbsp\;&nbsp\;&nbsp\;&nbsp\;<strong><span style="color: rgb(255\, 0\, 0)\;"><em>- Wear close toed shoes<br />\n&nbsp\;&nbsp\;&nbsp\;&nbsp\;&nbsp\;&nbsp\;&nbsp\;</em></span></strong>&nbsp\;&nbsp\;&nbsp\;&nbsp\;<strong><span style="color: rgb(255\, 0\, 0)\;"><em>&nbsp\;- Feel free to bring treats for the horses:&nbsp\; apples\, carrots\, peppermints or<br />\n&nbsp\;&nbsp\;&nbsp\;&nbsp\;&nbsp\;&nbsp\;&nbsp\;&nbsp\;&nbsp\;&nbsp\;&nbsp\;&nbsp\;&nbsp\;&nbsp\;&nbsp\;&nbsp\;&nbsp\;&nbsp\;&nbsp\;&nbsp\;&nbsp\;&nbsp\;&nbsp\;&nbsp\;&nbsp\;&nbsp\;&nbsp\;&nbsp\;&nbsp\;&nbsp\;&nbsp\;&nbsp\;&nbsp\;&nbsp\;&nbsp\;&nbsp\;&nbsp\;&nbsp\;&nbsp\;&nbsp\;&nbsp\;&nbsp\;&nbsp\;&nbsp\;&nbsp\;&nbsp\;&nbsp\;&nbsp\;&nbsp\;&nbsp\;&nbsp\;&nbsp\;&nbsp\;&nbsp\;&nbsp\;&nbsp\;&nbsp\;&nbsp\;&nbsp\;&nbsp\;&nbsp\;&nbsp\;&nbsp\;&nbsp\;&nbsp\;&nbsp\;&nbsp\;&nbsp\;&nbsp\;&nbsp\;&nbsp\;&nbsp\;&nbsp\;&nbsp\;&nbsp\;&nbsp\;&nbsp\;&nbsp\;&nbsp\; &nbsp\; cereal (no chocolate or raisins)</em></span></strong>
LOCATION:LifeStriders S11 W29667 Summit Avenue Waukesha\, WI 53188
UID:e.522.133808
SEQUENCE:3
DTSTAMP:20260422T131145Z
URL:https://business.hartland-wi.org/events/details/20-20-networking-08-24-2016-133808
END:VEVENT

END:VCALENDAR
