BEGIN:VCALENDAR
VERSION:2.0
PRODID:-//ChamberMaster//Event Calendar 2.0//EN
METHOD:PUBLISH
X-PUBLISHED-TTL:P3D
REFRESH-INTERVAL:P3D
CALSCALE:GREGORIAN
BEGIN:VEVENT
DTSTART:20160727T163000Z
DTEND:20160727T173000Z
X-MICROSOFT-CDO-ALLDAYEVENT:FALSE
SUMMARY:20/20 NETWORKING
DESCRIPTION:Changes Per Session\n\nAlways review here for update\n\n\n\nTHIS MONTH:\n\nKarate America\n\n1279 W. Capitol Drive\n\nPewaukee\, WI  53072\n\n\n\nJoin us in learning more about self-defense and integrity at Karate America's newest location in Pewaukee!
X-ALT-DESC;FMTTYPE=text/html:Changes Per Session<br />\nAlways review here for update<br />\n<br />\n<strong><span style="font-size: 14px\;">THIS MONTH:</span></strong><br />\n<strong><em><font color="#0000ff">Karate America<br />\n1279 W. Capitol Drive<br />\nPewaukee\, WI&nbsp\; 53072</font></em></strong><br />\n<br />\n<span style="color: rgb(0\, 0\, 255)\;"><strong>Join us in learning more about self-defense and integrity at Karate America&#39\;s newest location in Pewaukee!</strong></span>
LOCATION:1279 W. Capitol Drive Pewaukee\, WI 53072
UID:e.522.133805
SEQUENCE:3
DTSTAMP:20260422T111612Z
URL:https://business.hartland-wi.org/events/details/20-20-networking-07-27-2016-133805
END:VEVENT

END:VCALENDAR
