BEGIN:VCALENDAR
VERSION:2.0
PRODID:-//ChamberMaster//Event Calendar 2.0//EN
METHOD:PUBLISH
X-PUBLISHED-TTL:P3D
REFRESH-INTERVAL:P3D
CALSCALE:GREGORIAN
BEGIN:VEVENT
DTSTART:20160622T163000Z
DTEND:20160622T173000Z
X-MICROSOFT-CDO-ALLDAYEVENT:FALSE
SUMMARY:20/20 NETWORKING
DESCRIPTION:Changes Per Session\n\nAlways review here for update\n\n\n\nTHIS MONTH:\n\nBeer Snobs Ale & Eats\n\n122 Cottonwood Avenue\n\nHartland\, WI  53029\n\n\n\n\n\n"Learn About Craft Beers in 20 Minutes"
X-ALT-DESC;FMTTYPE=text/html:Changes Per Session<br />\nAlways review here for update<br />\n<br />\n<strong><span style="font-size: 14px\;">THIS MONTH:</span></strong><br />\n<strong><em><font color="#0000ff">Beer Snobs Ale &amp\; Eats<br />\n122 Cottonwood Avenue<br />\nHartland\, WI&nbsp\; 53029</font></em></strong><br />\n<br />\n<br />\n<span style="color: rgb(0\, 0\, 255)\;"><strong>&quot\;Learn About Craft Beers in 20 Minutes&quot\;</strong></span>
LOCATION:122 Cottonwood Avenue Hartland\, WI 53029
UID:e.522.133380
SEQUENCE:3
DTSTAMP:20260422T093513Z
URL:https://business.hartland-wi.org/events/details/20-20-networking-06-22-2016-133380
END:VEVENT

END:VCALENDAR
