BEGIN:VCALENDAR
VERSION:2.0
PRODID:-//ChamberMaster//Event Calendar 2.0//EN
METHOD:PUBLISH
X-PUBLISHED-TTL:P3D
REFRESH-INTERVAL:P3D
CALSCALE:GREGORIAN
BEGIN:VEVENT
DTSTART:20160525T163000Z
DTEND:20160525T173000Z
X-MICROSOFT-CDO-ALLDAYEVENT:FALSE
SUMMARY:20/20 NETWORKING
DESCRIPTION:Changes Per Session\n\nAlways review here for update\n\n\n\nTHIS MONTH:\n\nWestern Lakes Golf Club\n\nW287 N1963 Oakton Avenue\n\nPewaukee\, WI 53072\n\n\n\n"Learn From The Golf Pro in 20 minutes" Bring Your Clubs If You Have Them!
X-ALT-DESC;FMTTYPE=text/html:Changes Per Session<br />\nAlways review here for update<br />\n<br />\n<strong><span style="font-size: 14px\;">THIS MONTH:</span></strong><br />\n<span style="color: rgb(0\, 0\, 255)\;"><em><strong>Western Lakes Golf Club<br />\nW287 N1963 Oakton Avenue<br />\nPewaukee\, WI 53072</strong></em></span><br />\n<br />\n<span style="color: rgb(0\, 0\, 255)\;"><strong>&quot\;Learn From The Golf Pro in 20 minutes&quot\; Bring Your Clubs If You Have Them!</strong></span>
LOCATION:W287 N1963 Oakton Avenue Pewaukee\, WI 53072
UID:e.522.133379
SEQUENCE:3
DTSTAMP:20260422T075156Z
URL:https://business.hartland-wi.org/events/details/20-20-networking-05-25-2016-133379
END:VEVENT

END:VCALENDAR
