BEGIN:VCALENDAR
VERSION:2.0
PRODID:-//ChamberMaster//Event Calendar 2.0//EN
METHOD:PUBLISH
X-PUBLISHED-TTL:P3D
REFRESH-INTERVAL:P3D
CALSCALE:GREGORIAN
BEGIN:VEVENT
DTSTART:20160427T163000Z
DTEND:20160427T173000Z
X-MICROSOFT-CDO-ALLDAYEVENT:FALSE
SUMMARY:20/20 NETWORKING
DESCRIPTION:Changes Per Session\n\nAlways review here for update\n\n\n\nTHIS MONTH:\n\nLearningRX\n\n21075 Swenson Dr.\, Suite 200\n\nWaukesha\, WI  53186\n\n\n\n"Learn how to increase your memory power\, process things faster\, multi-task better and other techniques to help you excel personally and professionally."
X-ALT-DESC;FMTTYPE=text/html:Changes Per Session<br />\nAlways review here for update<br />\n<br />\n<strong><span style="font-size: 14px\;">THIS MONTH:</span></strong><br />\n<span style="color: rgb(0\, 0\, 255)\;"><em><strong>LearningRX<br />\n21075 Swenson Dr.\, Suite 200<br />\nWaukesha\, WI&nbsp\; 53186</strong></em></span><br />\n<br />\n<span style="color: rgb(0\, 0\, 255)\;"><strong>&quot\;Learn how to increase your memory power\, process things faster\, multi-task better and other techniques to help you excel personally and professionally.&quot\;</strong></span>
LOCATION:21075 Swenson Dr.\, Suite 200 Waukesha\, WI 53186
UID:e.522.133378
SEQUENCE:3
DTSTAMP:20260422T060426Z
URL:https://business.hartland-wi.org/events/details/20-20-networking-04-27-2016-133378
END:VEVENT

END:VCALENDAR
