BEGIN:VCALENDAR
VERSION:2.0
PRODID:-//ChamberMaster//Event Calendar 2.0//EN
METHOD:PUBLISH
X-PUBLISHED-TTL:P3D
REFRESH-INTERVAL:P3D
CALSCALE:GREGORIAN
BEGIN:VEVENT
DTSTART:20150325T163000Z
DTEND:20150325T173000Z
X-MICROSOFT-CDO-ALLDAYEVENT:FALSE
SUMMARY:20/20 NETWORKING
DESCRIPTION:20/20 NETWORKING\n\n\n\nThe Hartland Chamber of Commerce\n\nand\n\nPewaukee Chamber of Commerce\n\nhave partnered to provide a unique networking\n\nand educational opportunity for our members!\n\n \n\nWhat is 20/20 Networking?\n\n20/20 Networking is an effective\, low-cost marketing method for developing sales opportunities and contacts\, based on referrals and introductions - a way for you to make the maxim\, "It's not what you know\, it's who you know"\, work for you.\n\n\n\nMonthly\, chamber members will have the chance to come together and visit each others' communities for:\n\n \n\n\n	20 minutes of networking\, followed by...\n	20 minutes of education courtesy of a guest speaker or "learn a new skill set"\, followed by...\n	20 minutes of questions/answers\, referral appreciation nods and extended networking.\n	Several participants will also be randomly selected for a 20-second elevator speech. Then\, at the conclusion of each formal program...\n	The host Chamber will share a list of local\, member eateries to consider for those who wish to continue conversations over lunch and strengthen alliances formed.\n\n\n\n\nThe Details\n\nSchedule:       Fourth Wednesday of Every Month\n\nWhere:            Changes per session\n\n                         See EVENT LOCATION in upper right column for details\n\nWhen:             11:15 am registration\n\nCost:                Pre-Registration (no refunds for non-attendance)\n\n                            $5/session members\n\n                            $10/session non-members\n\n\n\n                        Walk-In Registration\n\n                            $10/session members\n\n                            $15/session non-members\n\n                        Non-Members Limited to 2 Visits\n\n\n\nThe Agenda\n\nFourth Wednesday of Every Month unless otherwise noted\n\n11:15 am..............................Registration\n\n11:30 am..............................Ad Hoc Networking\n\n11:50 am..............................Education/Interactive Program\n\n     See DATE/TIME INFORMATION in right column for program details\n\n12:10 pm..............................Q&A\; Referral Kudos\; Extended Networking\n\n12:30 pm..............................Conclude\n\n\n\nHow Do I Register?\n\nClick on Register Online button at the top of this page.\n\n\n\nAlternatively\, call the chamber office at 262-367-7059 or email your request to chamberdirector@hartland-wi.org.
X-ALT-DESC;FMTTYPE=text/html:<p style="text-align: center\;"><strong><span style="font-size: 14px\;"><span style="font-family: comic sans ms\;"><span style="color: rgb(0\, 0\, 205)\;"><u><span style="font-size: 18px\;">20/20 NETWORKING</span></u></span></span><br />\n<br />\n<span style="font-family: comic sans ms\;"><span style="color: rgb(128\, 0\, 128)\;">The Hartland Chamber of Commerce<br />\nand<br />\nPewaukee Chamber of Commerce<br />\nhave partnered to provide a unique networking<br />\nand educational opportunity for our members!</span></span></span></strong></p>\n\n<p>&nbsp\;<br />\n<span style="color: rgb(0\, 0\, 255)\;"><strong><span style="font-size: 12pt\;"><span style="font-family: arial\,sans-serif\;">What is 20/20 Networking?</span></span></strong></span><br />\n<span style="color: rgb(0\, 0\, 255)\;"><strong><span style="font-family: arial\,sans-serif\;">20/20 Networking </span></strong></span><span style="font-family: arial\,sans-serif\;">is an effective\, low-cost marketing method for developing sales opportunities and contacts\, based on referrals and introductions - a way for you to make the maxim\, &ldquo\;It&rsquo\;s not <em>what</em> you know\, it&rsquo\;s <em>who</em> you know&rdquo\;\, work for you.</span><br />\n<br />\n<span style="font-family: arial\,sans-serif\;">Monthly\, chamber members will have the chance to come together and visit each others&rsquo\; communities for:</span><br />\n&nbsp\;</p>\n\n<ul>\n	<li><span style="font-family: arial\,sans-serif\;"><span style="color: rgb(0\, 0\, 255)\;"><strong><em>20 minutes </em></strong></span><em>of networking\, followed by...</em></span></li>\n	<li><span style="font-family: arial\,sans-serif\;"><em><span style="color: rgb(0\, 0\, 255)\;"><strong>20 minutes</strong></span> of education courtesy of a guest speaker or &quot\;learn a new skill set&quot\;\, followed by...</em></span></li>\n	<li><span style="font-family: arial\,sans-serif\;"><em><span style="color: rgb(0\, 0\, 255)\;"><strong>20 minutes</strong></span> of questions/answers\, referral appreciation nods and extended networking.</em></span></li>\n	<li><span style="font-family: arial\,sans-serif\;"><em>Several participants will also be randomly selected for a <span style="color: rgb(0\, 0\, 255)\;"><strong>20-second</strong> </span>elevator speech.&nbsp\;Then\, a</em></span><span style="font-family: arial\,sans-serif\;"><em>t the conclusion of each formal program</em>...</span></li>\n	<li><span style="font-family: arial\,sans-serif\;">The host Chamber will share a list of local\, member eateries to consider for those who wish to continue conversations over lunch and strengthen alliances formed.</span></li>\n</ul>\n\n<p><br />\n<span style="font-family: arial\,sans-serif\;"><span style="font-size: 14px\;"><strong>The Details</strong></span><br />\nSchedule:&nbsp\;&nbsp\;&nbsp\;&nbsp\;&nbsp\;&nbsp\;&nbsp\;<strong><span style="background-color: rgb(255\, 255\, 0)\;">Fourth Wednesday of Every Month</span></strong><br />\nWhere:&nbsp\;&nbsp\;&nbsp\;&nbsp\;&nbsp\;&nbsp\;&nbsp\;&nbsp\;&nbsp\;&nbsp\;&nbsp\;&nbsp\;Changes per session<br />\n&nbsp\;&nbsp\;&nbsp\;&nbsp\;&nbsp\;&nbsp\;&nbsp\;&nbsp\;&nbsp\;&nbsp\;&nbsp\;&nbsp\;&nbsp\;&nbsp\;&nbsp\;&nbsp\;&nbsp\;&nbsp\;&nbsp\;&nbsp\;&nbsp\;&nbsp\;&nbsp\;&nbsp\; See <strong><em>EVENT LOCATION </em></strong>in upper right column for details<br />\nWhen:&nbsp\;&nbsp\;&nbsp\;&nbsp\;&nbsp\;&nbsp\;&nbsp\;&nbsp\;&nbsp\;&nbsp\;&nbsp\;&nbsp\; 11:15 am registration<br />\nCost:&nbsp\;&nbsp\;&nbsp\;&nbsp\;&nbsp\;&nbsp\;&nbsp\;&nbsp\;&nbsp\;&nbsp\;&nbsp\;&nbsp\;&nbsp\;&nbsp\;&nbsp\;&nbsp\;<em><strong>Pre-Registration </strong></em>(no refunds for non-attendance)<br />\n&nbsp\;&nbsp\;&nbsp\;&nbsp\;&nbsp\;&nbsp\;&nbsp\;&nbsp\;&nbsp\;&nbsp\;&nbsp\;&nbsp\;&nbsp\;&nbsp\;&nbsp\;&nbsp\;&nbsp\;&nbsp\;&nbsp\;&nbsp\;&nbsp\;&nbsp\;&nbsp\;&nbsp\;&nbsp\;&nbsp\;&nbsp\;&nbsp\;$5/session members<br />\n&nbsp\;&nbsp\;&nbsp\;&nbsp\;&nbsp\;&nbsp\;&nbsp\;&nbsp\;&nbsp\;&nbsp\;&nbsp\;&nbsp\;&nbsp\;&nbsp\;&nbsp\;&nbsp\;&nbsp\;&nbsp\;&nbsp\;&nbsp\;&nbsp\;&nbsp\;&nbsp\;&nbsp\;&nbsp\;&nbsp\;&nbsp\;&nbsp\;$10/session non-members<br />\n<br />\n&nbsp\;&nbsp\;&nbsp\;&nbsp\;&nbsp\;&nbsp\;&nbsp\;&nbsp\;&nbsp\;&nbsp\;&nbsp\;&nbsp\;&nbsp\;&nbsp\;&nbsp\;&nbsp\;&nbsp\;&nbsp\;&nbsp\;&nbsp\;&nbsp\;&nbsp\;&nbsp\;<em><strong>&nbsp\;Walk-In Registration</strong></em><br />\n&nbsp\;&nbsp\;&nbsp\;&nbsp\;&nbsp\;&nbsp\;&nbsp\;&nbsp\;&nbsp\;&nbsp\;&nbsp\;&nbsp\;&nbsp\;&nbsp\;&nbsp\;&nbsp\;&nbsp\;&nbsp\;&nbsp\;&nbsp\;&nbsp\;&nbsp\;&nbsp\;&nbsp\;&nbsp\;&nbsp\;&nbsp\;&nbsp\;$10/session members<br />\n&nbsp\;&nbsp\;&nbsp\;&nbsp\;&nbsp\;&nbsp\;&nbsp\;&nbsp\;&nbsp\;&nbsp\;&nbsp\;&nbsp\;&nbsp\;&nbsp\;&nbsp\;&nbsp\;&nbsp\;&nbsp\;&nbsp\;&nbsp\;&nbsp\;&nbsp\;&nbsp\;&nbsp\;&nbsp\;&nbsp\;&nbsp\;&nbsp\;$15/session non-members<br />\n&nbsp\;&nbsp\;&nbsp\;&nbsp\;&nbsp\;&nbsp\;&nbsp\;&nbsp\;&nbsp\;&nbsp\;&nbsp\;&nbsp\;&nbsp\;&nbsp\;&nbsp\;&nbsp\;&nbsp\;&nbsp\;&nbsp\;&nbsp\;&nbsp\;&nbsp\;&nbsp\;&nbsp\;<strong>Non-Members Limited to 2 Visits</strong><br />\n<br />\n<span style="font-size: 14px\;"><strong>The Agenda</strong></span><br />\n<strong><span style="background-color: rgb(255\, 255\, 0)\;">Fourth Wednesday of Every Month </span></strong>unless otherwise noted<br />\n11:15 am..............................Registration<br />\n11:30 am..............................Ad Hoc Networking<br />\n11:50 am..............................Education/Interactive Program<br />\n&nbsp\;&nbsp\;&nbsp\;&nbsp\; See <em><strong>DATE/TIME INFORMATION </strong></em>in right column for program details<br />\n12:10 pm..............................Q&amp\;A\; Referral&nbsp\;Kudos\; Extended Networking<br />\n12:30 pm..............................Conclude<br />\n<br />\n<span style="font-size: 14px\;"><strong>How Do I Register?</strong></span><br />\nClick on <strong><span style="background-color: rgb(221\, 160\, 221)\;">Register Online </span></strong>button at the top of this page.<br />\n<br />\nAlternatively\, call the chamber office at 262-367-7059 or email your request to chamberdirector@hartland-wi.org.</span><br />\n<br />\n<br />\n&nbsp\;</p>\n
LOCATION:Changes Per Session Always review here for update THIS MONTH: Malabar Coast Coffee and Tea 1463 Capitol Drive Pewaukee\, WI 53072 (262) 696-4658 Walmart Parking Lot on the corner of 164 and Capital Dr. next to Mattress Firm
UID:e.522.133115
SEQUENCE:3
DTSTAMP:20260421T075638Z
URL:https://business.hartland-wi.org/events/details/20-20-networking-03-25-2015-133115
END:VEVENT

END:VCALENDAR
