BEGIN:VCALENDAR
VERSION:2.0
PRODID:-//ChamberMaster//Event Calendar 2.0//EN
METHOD:PUBLISH
X-PUBLISHED-TTL:P3D
REFRESH-INTERVAL:P3D
CALSCALE:GREGORIAN
BEGIN:VEVENT
DTSTART:20160323T163000Z
DTEND:20160323T173000Z
X-MICROSOFT-CDO-ALLDAYEVENT:FALSE
SUMMARY:20/20 NETWORKING
DESCRIPTION:Changes Per Session\n\nAlways review here for update\n\n\n\nTHIS MONTH:\n\nCenter For Well-Being Lake Country\, LLC\n\n301 Cottonwood Avenue\n\nHartland\, WI  53029\n\n\n\n"Learn how the body mind connection works as you are led through a short and fun \n\nvisualization meditation.  We'll also teach you an amazing breath technique that Dr.\n\nAndrew Weil would choose if he had only one option to pass along to his patients for\n\ntheir wellness program."  In addition\, discover 5 acupuncture points to reduce stress.
X-ALT-DESC;FMTTYPE=text/html:Changes Per Session<br />\nAlways review here for update<br />\n<br />\n<strong><span style="font-size: 14px\;">THIS MONTH:</span></strong><br />\n<span style="color: rgb(0\, 0\, 255)\;"><em><strong>Center For Well-Being Lake Country\, LLC<br />\n301 Cottonwood Avenue<br />\nHartland\, WI&nbsp\; 53029</strong></em></span><br />\n<br />\n<span style="color: rgb(0\, 0\, 255)\;"><strong>&quot\;Learn how the body mind connection works as you are led through a short and fun&nbsp\;<br />\nvisualization meditation.&nbsp\; We&#39\;ll also teach you an amazing breath technique that Dr.<br />\nAndrew Weil would choose if he had only one option to pass along to his patients for<br />\ntheir wellness program.&quot\; &nbsp\;In addition\, discover 5 acupuncture points to reduce stress.</strong></span>
LOCATION:301 Cottonwood Avenue Hartland\, WI 53029
UID:e.522.133371
SEQUENCE:3
DTSTAMP:20260422T041816Z
URL:https://business.hartland-wi.org/events/details/20-20-networking-03-23-2016-133371
END:VEVENT

END:VCALENDAR
