BEGIN:VCALENDAR
VERSION:2.0
PRODID:-//ChamberMaster//Event Calendar 2.0//EN
METHOD:PUBLISH
X-PUBLISHED-TTL:P3D
REFRESH-INTERVAL:P3D
CALSCALE:GREGORIAN
BEGIN:VEVENT
DTSTART:20120201T220000Z
DTEND:20120202T010000Z
X-MICROSOFT-CDO-ALLDAYEVENT:FALSE
SUMMARY:1 Year Anniversary and Open House
DESCRIPTION:Hartland Center of Alternative Medicine \n\n\n\nIn gratitude to our patients\, families\, and the community...\n\nJoin us in celebration of Our 1 Year Anniversary\, and the Chinese New Year!\n\n\n\nWe will have snacks\, refreshments & music.\n\nStop by and join in the festivities! \n\n\n\n\n\nThank you for your support!!\n\nKevin & Jen Shoemake \n\n\n\n\n\n262-563-8022\n\nwww.hartlandaltmed.com\n\nFind us on Facebook.
X-ALT-DESC;FMTTYPE=text/html:<span style="font-size:16px\;"><span style="color:#800000\;"><span style="font-size:22px\;"><span style="font-family:times new roman\;"><em><strong>Hartland Center of Alternative Medicine&nbsp\;</strong></em></span></span></span><br />\n<br />\n<strong>In gratitude to our patients\, families\, and the community...<br />\nJoin us in celebration of <span style="font-size:18px\;"><span style="color:#800000\;"><em>Our 1 Year Anniversary</em></span></span>\, and the Chinese New Year!<br />\n<br />\nWe will have snacks\, refreshments &amp\; music.<br />\nStop by and join in the festivities! </strong></span><br />\n<br />\n<br />\n<span style="font-size:16px\;"><span style="font-size:18px\;"><span style="color:#800000\;"><em><strong>Thank you for your support!!</strong></em></span></span><br />\n<span style="font-size:20px\;"><span style="font-family:times new roman\;"><em><strong>Kevin &amp\; Jen Shoemake </strong></em></span></span><br />\n<br />\n<br />\n<span style="color:#800000\;"><em><strong>262-563-8022</strong><br />\nwww.hartlandaltmed.com<br />\n<strong>Find us on Facebook.&nbsp\;</strong></em></span></span>
LOCATION:Hartland Center of Alternative Medicine 114 West Capitol Drive\, Hartland\,WI 53029
UID:e.522.131918
SEQUENCE:3
DTSTAMP:20260421T212744Z
URL:https://business.hartland-wi.org/events/details/1-year-anniversary-and-open-house-02-01-2012-131918
END:VEVENT

END:VCALENDAR
